BEGIN:VCALENDAR
VERSION:2.0
PRODID:-//Arena Hohenlohe - ECPv6.5.1.1//NONSGML v1.0//EN
CALSCALE:GREGORIAN
METHOD:PUBLISH
X-WR-CALNAME:Arena Hohenlohe
X-ORIGINAL-URL:https://www.arena-hohenlohe.com/en/
X-WR-CALDESC:Events for Arena Hohenlohe
REFRESH-INTERVAL;VALUE=DURATION:PT1H
X-Robots-Tag:noindex
X-PUBLISHED-TTL:PT1H
BEGIN:VTIMEZONE
TZID:Europe/Berlin
BEGIN:DAYLIGHT
TZOFFSETFROM:+0100
TZOFFSETTO:+0200
TZNAME:CEST
DTSTART:20260329T010000
END:DAYLIGHT
BEGIN:STANDARD
TZOFFSETFROM:+0200
TZOFFSETTO:+0100
TZNAME:CET
DTSTART:20261025T010000
END:STANDARD
END:VTIMEZONE
BEGIN:VEVENT
DTSTART;TZID=Europe/Berlin:20261014T130000
DTEND;TZID=Europe/Berlin:20261014T160000
DTSTAMP:20260419T141532
CREATED:20250910T083934Z
LAST-MODIFIED:20250910T083934Z
UID:10001222-1791982800-1791993600@www.arena-hohenlohe.com
SUMMARY:Kälberauktion
DESCRIPTION:Auf der Auktion erwartet Sie ein umfangreiches Angebot an Fleckvieh-Mastkälbern.Wir freuen uns auf Ihren Besuch. Weitere Infos zum Tierangebot und zum Kaufauftragsdienst erhalten Sie bei unserem Vermarktungsleiter Auktionskälber Markus Werner unter 0172-747 19 28. \nweitere Infos
URL:https://www.arena-hohenlohe.com/en/events/kaelberauktion-82/
ATTACH;FMTTYPE=image/jpeg:https://www.arena-hohenlohe.com/wp-content/uploads/2016/07/P1050582-e1469015768968.jpg
END:VEVENT
BEGIN:VEVENT
DTSTART;TZID=Europe/Berlin:20261016T200000
DTEND;TZID=Europe/Berlin:20261016T220000
DTSTAMP:20260419T141532
CREATED:20260408T071415Z
LAST-MODIFIED:20260408T071416Z
UID:10001239-1792180800-1792188000@www.arena-hohenlohe.com
SUMMARY:Bülent Ceylan - Diktatürk!
DESCRIPTION:Bülent hat die Nase voll. Überall Diktatoren! Egal ob Politik\, Mode\, Beziehung oder Ernährung – ständig will Dir einer sagen\, was Du zu tun hast. Aber nicht mit Bülent. Ab heute wird zurückdiktiert! Der Thor wird zum Dikta-Thor.\nMompfreds Frau Waltraut braucht auch dringend mal wieder ne Ansage.\nAnneliese ist natürlich schon lange die perfekte Ver-Führerin.\nSogar Harald mischt sich diesmal hoch zu Roß unters Volk.\nUnd Hasan revolutioniert den Unterricht an deutschen Schulen und lässt Goethe ganz alt aussehen.\nJa\, und bei Bülent zuhause herrscht das Familienregiment. Da muss sogar Bülent mal strammstehen. \nMetal und Marschmusik gibt’s im neuen Programm natürlich auch. \nAlso\, holt Euch die Karten – hey\, nur ein Vorschlag\, kein Befehl! \nEinlass: 19 Uhr \nBeginn: 20 Uhr \nZu den Tickets geht es hier.
URL:https://www.arena-hohenlohe.com/en/events/buelent-ceylan-diktatuerk/
LOCATION:Arena Hohenlohe\, Justus-von-Liebig-Str. 1\, Ilshofen\, 74532\, Deutschland
ATTACH;FMTTYPE=image/jpeg:https://www.arena-hohenlohe.com/wp-content/uploads/2026/04/Buelent_2026-e1775632026925.jpg
ORGANIZER;CN="s-promotion":MAILTO:info@s-promotion.de
END:VEVENT
BEGIN:VEVENT
DTSTART;TZID=Europe/Berlin:20261028T103000
DTEND;TZID=Europe/Berlin:20261028T160000
DTSTAMP:20260419T141532
CREATED:20250910T084017Z
LAST-MODIFIED:20250910T084017Z
UID:10001223-1793183400-1793203200@www.arena-hohenlohe.com
SUMMARY:Zuchtviehauktion
DESCRIPTION:Auf der Auktion erwartet Sie ein umfangreiches Angebot an besten Zuchttieren der Rassen Fleckvieh und Holsteins und ein großes Fleckvieh-Mastkälberangebot.Wir freuen uns auf Ihren Besuch. Weitere Infos zum Tierangebot erhalten Sie bei unserem Vermarktungsleiter Dr. Goran Vuckovic unter 0172-767 19 42. \nweitere Infos
URL:https://www.arena-hohenlohe.com/en/events/zuchtviehauktion-87/
ATTACH;FMTTYPE=image/jpeg:https://www.arena-hohenlohe.com/wp-content/uploads/2016/07/Mehrzweckhallen-und-Arena-retu-e1469016511649.jpg
END:VEVENT
END:VCALENDAR