BEGIN:VCALENDAR
VERSION:2.0
PRODID:-//Arena Hohenlohe - ECPv6.5.1.1//NONSGML v1.0//EN
CALSCALE:GREGORIAN
METHOD:PUBLISH
X-ORIGINAL-URL:https://www.arena-hohenlohe.com/en/
X-WR-CALDESC:Events for Arena Hohenlohe
REFRESH-INTERVAL;VALUE=DURATION:PT1H
X-Robots-Tag:noindex
X-PUBLISHED-TTL:PT1H
BEGIN:VTIMEZONE
TZID:Europe/Berlin
BEGIN:DAYLIGHT
TZOFFSETFROM:+0100
TZOFFSETTO:+0200
TZNAME:CEST
DTSTART:20250330T010000
END:DAYLIGHT
BEGIN:STANDARD
TZOFFSETFROM:+0200
TZOFFSETTO:+0100
TZNAME:CET
DTSTART:20251026T010000
END:STANDARD
END:VTIMEZONE
BEGIN:VEVENT
DTSTART;TZID=Europe/Berlin:20251107T200000
DTEND;TZID=Europe/Berlin:20251107T220000
DTSTAMP:20260421T114253
CREATED:20250704T065233Z
LAST-MODIFIED:20250704T065233Z
UID:10001179-1762545600-1762552800@www.arena-hohenlohe.com
SUMMARY:BARMER 2. Basketball-Bundesliga MERLINS vs. Nürnberg Falcons
DESCRIPTION:Am Freitag empfangen die HAKRO Merlins Crailsheim in der Arena Hohenlohe das Team der Nürnberg Falcons (Spielbeginn: 20:00 Uhr).\nweitere Infos
URL:https://www.arena-hohenlohe.com/en/events/barmer-2-basketball-bundesliga-merlins-vs-nuernberg-falcons-2/
LOCATION:Arena Hohenlohe\, Justus-von-Liebig-Str. 1\, Ilshofen\, 74532\, Deutschland
ATTACH;FMTTYPE=image/jpeg:https://www.arena-hohenlohe.com/wp-content/uploads/2024/07/a_PHILIPPREINHARD.COM_MERLINS_24_25_Rostock_L1002884-2-1.jpg
END:VEVENT
BEGIN:VEVENT
DTSTART;TZID=Europe/Berlin:20251112T130000
DTEND;TZID=Europe/Berlin:20251112T160000
DTSTAMP:20260421T114253
CREATED:20240912T083907Z
LAST-MODIFIED:20240912T083907Z
UID:10001150-1762952400-1762963200@www.arena-hohenlohe.com
SUMMARY:Kälberauktion
DESCRIPTION:Auf der Auktion erwartet Sie ein umfangreiches Angebot an Fleckvieh-Mastkälbern\, Kreuzungskälbern und Fleckvieh-Rindern.Wir freuen uns auf Ihren Besuch. Weitere Infos zum Tierangebot und zum Kaufauftragsdienst erhalten Sie bei unserem Vermarktungsleiter Auktionskälber Markus Werner unter 0172-747 19 28. \nweitere Infos
URL:https://www.arena-hohenlohe.com/en/events/kaelberauktion-70/
ATTACH;FMTTYPE=image/jpeg:https://www.arena-hohenlohe.com/wp-content/uploads/2022/12/Kaelbergruppe-e1710949273979.jpg
END:VEVENT
BEGIN:VEVENT
DTSTART;TZID=Europe/Berlin:20251115T100000
DTEND;TZID=Europe/Berlin:20251116T170000
DTSTAMP:20260421T114253
CREATED:20240912T091340Z
LAST-MODIFIED:20240912T091340Z
UID:10001165-1763200800-1763312400@www.arena-hohenlohe.com
SUMMARY:Fachkräftetage – Die Berufs- und Karrieremesse 2025
DESCRIPTION:Fachkräftetage – Die Berufs- und Karrieremesse 2025\nDie Messe findet vom 15. bis 16. November 2025 wieder in der Arena Hohenlohe in Ilshofen statt. \nAuf den FACHKRÄFTETAGEN haben Arbeitnehmer die Gelegenheit\, direkt und persönlich\, ohne Bewerbungsverfahren\, mit den Personalentscheidern der Unternehmen ins Gespräch zu kommen. Die Stellen- und Weiterbildungsangebote richten sich vor allem an Fachkräfte und Akademiker\, die nach neuen beruflichen Herausforderungen suchen\, aber auch an Hochschulabsolventen\, die sich über die vielfältigen Einstiegsmöglichkeiten bei einem der heimischen Betriebe informieren wollen und natürlich an Arbeitnehmer\, die durch externe Weiterbildung innerbetrieblich auf der Karriereleiter weiter vorankommen wollen. \nDie Besucher erwartet ein Jobangebot von mehr als 500 offenen Stellen aus über 100 erfolgreichen Unternehmen und Institutionen unserer Region Hohenlohe-Franken. Dabei handelt es sich bei den teilnehmenden Unternehmen um Top-Arbeitgeber aus unterschiedlichen Branchen. \nWeitere Infos unter www.fachkräftetage.de \nÖffnungszeiten: \nSamstag von 10 bis 17 Uhr \nSonntag von 11 bis 17 Uhr \nDer Eintritt ist kostenlos. \nVeranstalter: \nSÜDWEST PRESSE Hohenlohe GmbH & Co. KG \nNadine Kettemann\nmessen.sho@swp.de \n0791 404 301
URL:https://www.arena-hohenlohe.com/en/events/fachkraeftetage-die-berufs-und-karrieremesse-2025/
ATTACH;FMTTYPE=image/jpeg:https://www.arena-hohenlohe.com/wp-content/uploads/2024/09/Fachkraeftetage.jpg
END:VEVENT
BEGIN:VEVENT
DTSTART;TZID=Europe/Berlin:20251122T200000
DTEND;TZID=Europe/Berlin:20251122T220000
DTSTAMP:20260421T114253
CREATED:20250704T065419Z
LAST-MODIFIED:20250704T071723Z
UID:10001180-1763841600-1763848800@www.arena-hohenlohe.com
SUMMARY:BARMER 2. Basketball-Bundesliga MERLINS vs. Uni Baskets Münster
DESCRIPTION:Am Samstag empfangen die HAKRO Merlins Crailsheim in der Arena Hohenlohe das Team der Uni Baskets Münster (Spielbeginn: 20:00 Uhr).\nweitere Infos
URL:https://www.arena-hohenlohe.com/en/events/barmer-2-basketball-bundesliga-merlins-vs-uni-baskets-muenster-2/
LOCATION:Arena Hohenlohe\, Justus-von-Liebig-Str. 1\, Ilshofen\, 74532\, Deutschland
ATTACH;FMTTYPE=image/jpeg:https://www.arena-hohenlohe.com/wp-content/uploads/2024/07/a_PHILIPPREINHARD.COM_MERLINS_24_25_Rostock_L1003234-1.jpg
END:VEVENT
BEGIN:VEVENT
DTSTART;TZID=Europe/Berlin:20251126T103000
DTEND;TZID=Europe/Berlin:20251126T160000
DTSTAMP:20260421T114253
CREATED:20240912T085746Z
LAST-MODIFIED:20240912T085746Z
UID:10001162-1764153000-1764172800@www.arena-hohenlohe.com
SUMMARY:Zuchtviehauktion
DESCRIPTION:Auf der Auktion erwartet Sie ein umfangreiches Angebot an besten Zuchttieren der Rassen Fleckvieh und Holsteins und ein großes Fleckvieh-Mastkälberangebot.Wir freuen uns auf Ihren Besuch. Weitere Infos zum Tierangebot erhalten Sie bei unserem Vermarktungsleiter Dr. Goran Vuckovic unter 0172-767 19 42. \nweitere Infos
URL:https://www.arena-hohenlohe.com/en/events/zuchtviehauktion-75/
ATTACH;FMTTYPE=image/jpeg:https://www.arena-hohenlohe.com/wp-content/uploads/2016/07/26-04-2012-15-h-einige-LKWs-zum-Verladen-Arena-Ilshofen-e1469016942813.jpg
END:VEVENT
END:VCALENDAR