BEGIN:VCALENDAR
VERSION:2.0
PRODID:-//Arena Hohenlohe - ECPv6.5.1.1//NONSGML v1.0//EN
CALSCALE:GREGORIAN
METHOD:PUBLISH
X-ORIGINAL-URL:https://www.arena-hohenlohe.com/en/
X-WR-CALDESC:Events for Arena Hohenlohe
REFRESH-INTERVAL;VALUE=DURATION:PT1H
X-Robots-Tag:noindex
X-PUBLISHED-TTL:PT1H
BEGIN:VTIMEZONE
TZID:Europe/Berlin
BEGIN:DAYLIGHT
TZOFFSETFROM:+0100
TZOFFSETTO:+0200
TZNAME:CEST
DTSTART:20250330T010000
END:DAYLIGHT
BEGIN:STANDARD
TZOFFSETFROM:+0200
TZOFFSETTO:+0100
TZNAME:CET
DTSTART:20251026T010000
END:STANDARD
END:VTIMEZONE
BEGIN:VEVENT
DTSTART;TZID=Europe/Berlin:20251001T103000
DTEND;TZID=Europe/Berlin:20251001T160000
DTSTAMP:20260421T130035
CREATED:20240912T085525Z
LAST-MODIFIED:20240912T085525Z
UID:10001160-1759314600-1759334400@www.arena-hohenlohe.com
SUMMARY:Zuchtviehauktion
DESCRIPTION:Auf der Auktion erwartet Sie ein umfangreiches Angebot an besten Zuchttieren der Rassen Fleckvieh und Holsteins und ein großes Fleckvieh-Mastkälberangebot.Wir freuen uns auf Ihren Besuch. Weitere Infos zum Tierangebot erhalten Sie bei unserem Vermarktungsleiter Dr. Goran Vuckovic unter 0172-767 19 42. \nweitere Infos
URL:https://www.arena-hohenlohe.com/en/events/zuchtviehauktion-73/
ATTACH;FMTTYPE=image/jpeg:https://www.arena-hohenlohe.com/wp-content/uploads/2016/07/Mehrzweckhallen-und-Arena-retu-e1469016511649.jpg
END:VEVENT
BEGIN:VEVENT
DTSTART;TZID=Europe/Berlin:20251004T200000
DTEND;TZID=Europe/Berlin:20251004T220000
DTSTAMP:20260421T130035
CREATED:20250704T064151Z
LAST-MODIFIED:20250704T064859Z
UID:10001176-1759608000-1759615200@www.arena-hohenlohe.com
SUMMARY:BARMER 2. Basketball-Bundesliga MERLINS vs. Knights Kirchheim
DESCRIPTION:Am Samstag empfangen die HAKRO Merlins Crailsheim in der Arena Hohenlohe das Team der Bozic Estriche Knights Kirchheim (Spielbeginn: 20:00 Uhr).\nweitere Infos
URL:https://www.arena-hohenlohe.com/en/events/barmer-2-basketball-bundesliga-merlins-vs-bozic-estriche-knights-kirchheim/
LOCATION:Arena Hohenlohe\, Justus-von-Liebig-Str. 1\, Ilshofen\, 74532\, Deutschland
ATTACH;FMTTYPE=image/jpeg:https://www.arena-hohenlohe.com/wp-content/uploads/2024/07/a_PHILIPPREINHARD.COM_MERLINS_24_25_Rostock_L1003048.jpg
END:VEVENT
BEGIN:VEVENT
DTSTART;TZID=Europe/Berlin:20251015T130000
DTEND;TZID=Europe/Berlin:20251015T160000
DTSTAMP:20260421T130035
CREATED:20240912T083824Z
LAST-MODIFIED:20240912T083824Z
UID:10001149-1760533200-1760544000@www.arena-hohenlohe.com
SUMMARY:Kälberauktion
DESCRIPTION:Auf der Auktion erwartet Sie ein umfangreiches Angebot an Fleckvieh-Mastkälbern\, Kreuzungskälbern und Fleckvieh-Rindern.Wir freuen uns auf Ihren Besuch. Weitere Infos zum Tierangebot und zum Kaufauftragsdienst erhalten Sie bei unserem Vermarktungsleiter Auktionskälber Markus Werner unter 0172-747 19 28. \nweitere Infos
URL:https://www.arena-hohenlohe.com/en/events/kaelberauktion-69/
ATTACH;FMTTYPE=image/jpeg:https://www.arena-hohenlohe.com/wp-content/uploads/2016/07/P1050582-e1469015768968.jpg
END:VEVENT
BEGIN:VEVENT
DTSTART;TZID=Europe/Berlin:20251018T200000
DTEND;TZID=Europe/Berlin:20251018T220000
DTSTAMP:20260421T130035
CREATED:20250704T064816Z
LAST-MODIFIED:20250704T070119Z
UID:10001177-1760817600-1760824800@www.arena-hohenlohe.com
SUMMARY:BARMER 2. Basketball-Bundesliga MERLINS vs. Baskets Paderborn
DESCRIPTION:Am Samstag empfangen die HAKRO Merlins Crailsheim in der Arena Hohenlohe das Team der Gartenzaun24 Baskets Paderborn (Spielbeginn: 20:00 Uhr).\nweitere Infos
URL:https://www.arena-hohenlohe.com/en/events/barmer-2-basketball-bundesliga-merlins-vs-baskets-paderborn/
LOCATION:Arena Hohenlohe\, Justus-von-Liebig-Str. 1\, Ilshofen\, 74532\, Deutschland
ATTACH;FMTTYPE=image/jpeg:https://www.arena-hohenlohe.com/wp-content/uploads/2021/09/Merlins_4.jpg
END:VEVENT
BEGIN:VEVENT
DTSTART;TZID=Europe/Berlin:20251025T200000
DTEND;TZID=Europe/Berlin:20251025T220000
DTSTAMP:20260421T130035
CREATED:20250704T065115Z
LAST-MODIFIED:20250704T065115Z
UID:10001178-1761422400-1761429600@www.arena-hohenlohe.com
SUMMARY:BARMER 2. Basketball-Bundesliga MERLINS vs. Gießen 46ers
DESCRIPTION:Am Samstag empfangen die HAKRO Merlins Crailsheim in der Arena Hohenlohe das Team der Gießen 46ers (Spielbeginn: 20:00 Uhr).\nweitere Infos
URL:https://www.arena-hohenlohe.com/en/events/barmer-2-basketball-bundesliga-merlins-vs-giessen-46ers-2/
LOCATION:Arena Hohenlohe\, Justus-von-Liebig-Str. 1\, Ilshofen\, 74532\, Deutschland
ATTACH;FMTTYPE=image/jpeg:https://www.arena-hohenlohe.com/wp-content/uploads/2024/07/a_PHILIPPREINHARD.COM_Merlins_Mediaday_24_L1030359-scaled.jpg
END:VEVENT
BEGIN:VEVENT
DTSTART;TZID=Europe/Berlin:20251029T103000
DTEND;TZID=Europe/Berlin:20251029T160000
DTSTAMP:20260421T130035
CREATED:20240912T085619Z
LAST-MODIFIED:20240912T085619Z
UID:10001161-1761733800-1761753600@www.arena-hohenlohe.com
SUMMARY:Zuchtviehauktion
DESCRIPTION:Auf der Auktion erwartet Sie ein umfangreiches Angebot an besten Zuchttieren der Rassen Fleckvieh und Holsteins und ein großes Fleckvieh-Mastkälberangebot.Wir freuen uns auf Ihren Besuch. Weitere Infos zum Tierangebot erhalten Sie bei unserem Vermarktungsleiter Dr. Goran Vuckovic unter 0172-767 19 42. \nweitere Infos
URL:https://www.arena-hohenlohe.com/en/events/zuchtviehauktion-74/
ATTACH;FMTTYPE=image/jpeg:https://www.arena-hohenlohe.com/wp-content/uploads/2021/06/Laudate_DE0813471555_Domel_HaeberleA_kopf.jpg
END:VEVENT
END:VCALENDAR