BEGIN:VCALENDAR
VERSION:2.0
PRODID:-//Arena Hohenlohe - ECPv6.5.1.1//NONSGML v1.0//EN
CALSCALE:GREGORIAN
METHOD:PUBLISH
X-ORIGINAL-URL:https://www.arena-hohenlohe.com/en/
X-WR-CALDESC:Events for Arena Hohenlohe
REFRESH-INTERVAL;VALUE=DURATION:PT1H
X-Robots-Tag:noindex
X-PUBLISHED-TTL:PT1H
BEGIN:VTIMEZONE
TZID:Europe/Berlin
BEGIN:DAYLIGHT
TZOFFSETFROM:+0100
TZOFFSETTO:+0200
TZNAME:CEST
DTSTART:20250330T010000
END:DAYLIGHT
BEGIN:STANDARD
TZOFFSETFROM:+0200
TZOFFSETTO:+0100
TZNAME:CET
DTSTART:20251026T010000
END:STANDARD
END:VTIMEZONE
BEGIN:VEVENT
DTSTART;TZID=Europe/Berlin:20250903T103000
DTEND;TZID=Europe/Berlin:20250903T160000
DTSTAMP:20260421T140838
CREATED:20240912T085445Z
LAST-MODIFIED:20240912T085445Z
UID:10001159-1756895400-1756915200@www.arena-hohenlohe.com
SUMMARY:Zuchtviehauktion
DESCRIPTION:Auf der Auktion erwartet Sie ein umfangreiches Angebot an besten Zuchttieren der Rassen Fleckvieh und Holsteins und ein großes Fleckvieh-Mastkälberangebot.Wir freuen uns auf Ihren Besuch. Weitere Infos zum Tierangebot erhalten Sie bei unserem Vermarktungsleiter Dr. Goran Vuckovic unter 0172-767 19 42. \nweitere Infos
URL:https://www.arena-hohenlohe.com/en/events/zuchtviehauktion-72/
ATTACH;FMTTYPE=image/jpeg:https://www.arena-hohenlohe.com/wp-content/uploads/2016/07/26-04-2012-15-h-einige-LKWs-zum-Verladen-Arena-Ilshofen-e1469016942813.jpg
END:VEVENT
BEGIN:VEVENT
DTSTART;TZID=Europe/Berlin:20250906T070000
DTEND;TZID=Europe/Berlin:20250906T120000
DTSTAMP:20260421T140838
CREATED:20250408T134541Z
LAST-MODIFIED:20250408T134541Z
UID:10001171-1757142000-1757160000@www.arena-hohenlohe.com
SUMMARY:Vogelbörse
DESCRIPTION:Die erfolgreiche Vogelbörse mit über 300 Ausstellern und mehr als 4.000 Verkaufstieren.\nhttp://www.vogelboerse-crailsheim.de/
URL:https://www.arena-hohenlohe.com/en/events/vogelboerse-7/
LOCATION:Arena Hohenlohe\, Justus-von-Liebig-Str. 1\, Ilshofen\, 74532\, Deutschland
ATTACH;FMTTYPE=image/jpeg:https://www.arena-hohenlohe.com/wp-content/uploads/2015/10/Vogelbörse.jpg
END:VEVENT
BEGIN:VEVENT
DTSTART;TZID=Europe/Berlin:20250917T130000
DTEND;TZID=Europe/Berlin:20250917T160000
DTSTAMP:20260421T140838
CREATED:20240912T083737Z
LAST-MODIFIED:20240912T083737Z
UID:10001148-1758114000-1758124800@www.arena-hohenlohe.com
SUMMARY:Kälberauktion
DESCRIPTION:Auf der Auktion erwartet Sie ein umfangreiches Angebot an Fleckvieh-Mastkälbern\, Kreuzungskälbern und Fleckvieh-Rindern.Wir freuen uns auf Ihren Besuch. Weitere Infos zum Tierangebot und zum Kaufauftragsdienst erhalten Sie bei unserem Vermarktungsleiter Auktionskälber Markus Werner unter 0172-747 19 28. \nweitere Infos
URL:https://www.arena-hohenlohe.com/en/events/kaelberauktion-68/
ATTACH;FMTTYPE=image/jpeg:https://www.arena-hohenlohe.com/wp-content/uploads/2022/12/Kaelbergruppe-e1710949273979.jpg
END:VEVENT
BEGIN:VEVENT
DTSTART;TZID=Europe/Berlin:20250924T183000
DTEND;TZID=Europe/Berlin:20250924T203000
DTSTAMP:20260421T140838
CREATED:20250806T094453Z
LAST-MODIFIED:20250806T094625Z
UID:10001198-1758738600-1758745800@www.arena-hohenlohe.com
SUMMARY:Pokalspiel MERLINS vs. Science City Jena
DESCRIPTION:Am Sonntag empfangen die HAKRO Merlins Crailsheim in der Arena Hohenlohe das Team von Science City Jena (Spielbeginn: 15 Uhr). Mit dem Pokalspiel gegen Science City Jena wartet im September vor heimischer Kulisse das erste Pflichtspiel auf die HAKRO Merlins Crailsheim. Nun wurde die Partie zeitgenau angesetzt\, die Zauberer treffen demnach am Mittwochabend\, den 24. September um 18:30 Uhr\, auf den BBL-Aufsteiger\nweitere Infos
URL:https://www.arena-hohenlohe.com/en/events/pokalspiel-merlins-vs-science-city-jena/
LOCATION:Arena Hohenlohe\, Justus-von-Liebig-Str. 1\, Ilshofen\, 74532\, Deutschland
ATTACH;FMTTYPE=image/png:https://www.arena-hohenlohe.com/wp-content/uploads/2025/08/Pokal_2025.png
END:VEVENT
END:VCALENDAR