BEGIN:VCALENDAR
VERSION:2.0
PRODID:-//Arena Hohenlohe - ECPv6.5.1.1//NONSGML v1.0//EN
CALSCALE:GREGORIAN
METHOD:PUBLISH
X-WR-CALNAME:Arena Hohenlohe
X-ORIGINAL-URL:https://www.arena-hohenlohe.com/en/
X-WR-CALDESC:Events for Arena Hohenlohe
REFRESH-INTERVAL;VALUE=DURATION:PT1H
X-Robots-Tag:noindex
X-PUBLISHED-TTL:PT1H
BEGIN:VTIMEZONE
TZID:Europe/Berlin
BEGIN:DAYLIGHT
TZOFFSETFROM:+0100
TZOFFSETTO:+0200
TZNAME:CEST
DTSTART:20250330T010000
END:DAYLIGHT
BEGIN:STANDARD
TZOFFSETFROM:+0200
TZOFFSETTO:+0100
TZNAME:CET
DTSTART:20251026T010000
END:STANDARD
END:VTIMEZONE
BEGIN:VEVENT
DTSTART;TZID=Europe/Berlin:20250506T193000
DTEND;TZID=Europe/Berlin:20250506T213000
DTSTAMP:20260421T184449
CREATED:20250428T081143Z
LAST-MODIFIED:20250428T081306Z
UID:10001174-1746559800-1746567000@www.arena-hohenlohe.com
SUMMARY:Playoff-Viertelfinale MERLINS vs. Phoenix Hagen Spiel 3
DESCRIPTION:Play-Off Viertelfinale Spiel 3\nPlayoffs\, Baby! Die geilste Zeit des Jahres läuft! Wir wollen Spiel 3 der Serie gegen Hagen für uns entscheiden! Mit dir als 6. Mann zum Heimsieg!  Am Dienstag empfangen die HAKRO Merlins Crailsheim in der Arena Hohenlohe erneut das Team Phoenix Hagen (Spielbeginn: 19:30 Uhr).\nweitere Infos\nHinweis Stehplätze: freie Platzwahl im Oberrang  \n 
URL:https://www.arena-hohenlohe.com/en/events/playoff-viertelfinale-merlins-vs-phoenix-hagen-spiel-3/
LOCATION:Arena Hohenlohe\, Justus-von-Liebig-Str. 1\, Ilshofen\, 74532\, Deutschland
ATTACH;FMTTYPE=image/jpeg:https://www.arena-hohenlohe.com/wp-content/uploads/2024/07/a_PHILIPPREINHARD.COM_MERLINS_24_25_Rostock_L1002884-2-1.jpg
END:VEVENT
BEGIN:VEVENT
DTSTART;TZID=Europe/Berlin:20250510T200000
DTEND;TZID=Europe/Berlin:20250510T220000
DTSTAMP:20260421T184449
CREATED:20250509T074737Z
LAST-MODIFIED:20250509T074822Z
UID:10001175-1746907200-1746914400@www.arena-hohenlohe.com
SUMMARY:Playoff-Viertelfinale MERLINS vs. Phoenix Hagen Spiel 5
DESCRIPTION:Play-Off Viertelfinale Spiel 5\n\n\n\n\nAm Samstag empfangen die HAKRO Merlins Crailsheim in der Arena Hohenlohe erneut das Team Phoenix Hagen (Spielbeginn: 20:00 Uhr). Das wichtigste Spiel der bisherigen Saison steht an: Spiel 5! Jetzt heißt es „Do-or-Die“. Mit Dir als 6. Mann im Rücken wollen wir unseren Heimvorteil nutzen und das letzte Spiel der Playoff-Serie gegen Hagen für uns entscheiden. Gemeinsam ins Halbfinale! \nHinweis Stehplätze: freie Platzwahl im Oberrang  \n\n\n\nweitere Infos \n\n  \n 
URL:https://www.arena-hohenlohe.com/en/events/playoff-viertelfinale-merlins-vs-phoenix-hagen-spiel-3-2/
LOCATION:Arena Hohenlohe\, Justus-von-Liebig-Str. 1\, Ilshofen\, 74532\, Deutschland
ATTACH;FMTTYPE=image/jpeg:https://www.arena-hohenlohe.com/wp-content/uploads/2024/07/a_PHILIPPREINHARD.COM_MERLINS_24_25_Rostock_L1002884-2-1.jpg
END:VEVENT
BEGIN:VEVENT
DTSTART;TZID=Europe/Berlin:20250514T103000
DTEND;TZID=Europe/Berlin:20250514T160000
DTSTAMP:20260421T184449
CREATED:20240912T084915Z
LAST-MODIFIED:20240912T084915Z
UID:10001155-1747218600-1747238400@www.arena-hohenlohe.com
SUMMARY:Zuchtviehauktion
DESCRIPTION:Auf der Auktion erwartet Sie ein umfangreiches Angebot an besten Zuchttieren der Rassen Fleckvieh und Holsteins und ein großes Fleckvieh-Mastkälberangebot.Wir freuen uns auf Ihren Besuch. Weitere Infos zum Tierangebot erhalten Sie bei unserem Vermarktungsleiter Dr. Goran Vuckovic unter 0172-767 19 42. \nweitere Infos
URL:https://www.arena-hohenlohe.com/en/events/zuchtviehauktion-68/
ATTACH;FMTTYPE=image/jpeg:https://www.arena-hohenlohe.com/wp-content/uploads/2016/11/Roesromen_0810071317_Romen-Zimmerer.jpg
END:VEVENT
BEGIN:VEVENT
DTSTART;VALUE=DATE:20250523
DTEND;VALUE=DATE:20250526
DTSTAMP:20260421T184449
CREATED:20250423T092428Z
LAST-MODIFIED:20250423T093620Z
UID:10001172-1747958400-1748217599@www.arena-hohenlohe.com
SUMMARY:Erlebnis Feuerwehr 2025
DESCRIPTION:Vom 23. bis 25. Mai 2025 verwandelt sich die Arena Hohenlohe in Ilshofen in einen aufregenden Erlebnisbereich\, organisiert von den Freiwilligen Feuerwehren und einer Werkfeuerwehr aus dem Landkreis Schwäbisch Hall. Dieses feurige Event verspricht\, ein Highlight des Jahres zu werden und bietet ein abwechslungsreiches Programm für alle Altersgruppen. \nParty und Musik im Malle-Style\nAm Freitag\, dem 23. Mai 2025\, sorgen DJ „AMUE“ und – als Spezial-Guest – der bekannte Partyschlagersänger „Schürze“ ab 21 Uhr für eine mitreißende Stimmung. Die Brüder aus dem Bühlertal heizen mit ihren Hits wie „Layla“ und „Vatta Morgana“ die Arena richtig ein und versprechen eine Nacht zum Abtanzen und guter Laune. Sichern Sie sich frühzeitig Ihre Tickets im Vorverkauf\, da die Anzahl begrenzt ist.\nEinlass ist ab 20 Uhr und die Party steigt ab 21 Uhr. \n \nTag für die Feuerwehr\nDer Samstag\, 24. Mai 2025\, steht ganz im Zeichen der Kameradschaft mit Fortbildungsveranstaltungen und einem Kabarettabend mit leckerem Essen vom Buffet. \n  \nFeuerwehr zum Anfassen für alle\nAm Sonntag\, dem 25. Mai 2025\, zeigen die Feuerwehrleute ihre umfangreiche Leistungsfähigkeit bei zahlreichen Vorführungen. Die Veranstaltung beginnt um\n10:30 Uhr\, der Eintritt ist frei. Kinder können sich auf eine vielseitige Spielstraße der Jugendfeuerwehren freuen und an zahlreichen Mitmachaktionen teilnehmen. Die Hüpfburg sorgt für jede Menge Spaß und die jungen Gäste bis zwölf Jahre\, die mit dem Bastelbogen ein Feuerwehrauto gestaltet haben\, bekommen bei Abgabe eine Portion Pommes und ein Getränk. \nInformative Angebote \nFeuerwehrkameradinnen stehen für Fragen und Hintergründe zum Thema „Frauen in der Feuerwehr“ in einer lockeren Atmosphäre bereit. Fachleute informieren in Zusammenarbeit mit dem Bundesamt für Bevölkerungsschutz und Katastrophenhilfe über richtiges Verhalten bei Notlagen.\nDie Alterskameraden präsentieren historische Feuerwehrfahrzeuge\, die einen faszinierenden Einblick in die Geschichte der Feuerwehr bieten. Für gute Stimmung sorgt der Feuerwehr-Musikzug aus Wallhausen. \nAuch für das leibliche Wohl ist zur Mittags- und Kaffeezeit bestens gesorgt. Verpassen Sie nicht dieses erlebnisreiche Wochenende voller Action\, Musik und Informationen für die ganze Familie!
URL:https://www.arena-hohenlohe.com/en/events/erlebnis-feuerwehr-2025/
LOCATION:Arena Hohenlohe\, Justus-von-Liebig-Str. 1\, Ilshofen\, 74532\, Deutschland
ATTACH;FMTTYPE=image/jpeg:https://www.arena-hohenlohe.com/wp-content/uploads/2025/04/Erlebnis-Feuerwehr-2025-4.jpg
END:VEVENT
BEGIN:VEVENT
DTSTART;TZID=Europe/Berlin:20250528T130000
DTEND;TZID=Europe/Berlin:20250528T160000
DTSTAMP:20260421T184449
CREATED:20240912T083316Z
LAST-MODIFIED:20240912T083316Z
UID:10001144-1748437200-1748448000@www.arena-hohenlohe.com
SUMMARY:Kälberauktion
DESCRIPTION:Auf der Auktion erwartet Sie ein umfangreiches Angebot an Fleckvieh-Mastkälbern\, Kreuzungskälbern und Fleckvieh-Rindern.Wir freuen uns auf Ihren Besuch. Weitere Infos zum Tierangebot und zum Kaufauftragsdienst erhalten Sie bei unserem Vermarktungsleiter Auktionskälber Markus Werner unter 0172-747 19 28. \nweitere Infos
URL:https://www.arena-hohenlohe.com/en/events/kaelberauktion-64/
ATTACH;FMTTYPE=image/jpeg:https://www.arena-hohenlohe.com/wp-content/uploads/2022/12/Kaelbergruppe-e1710949273979.jpg
END:VEVENT
END:VCALENDAR