BEGIN:VCALENDAR
VERSION:2.0
PRODID:-//Arena Hohenlohe - ECPv6.5.1.1//NONSGML v1.0//EN
CALSCALE:GREGORIAN
METHOD:PUBLISH
X-WR-CALNAME:Arena Hohenlohe
X-ORIGINAL-URL:https://www.arena-hohenlohe.com/en/
X-WR-CALDESC:Events for Arena Hohenlohe
REFRESH-INTERVAL;VALUE=DURATION:PT1H
X-Robots-Tag:noindex
X-PUBLISHED-TTL:PT1H
BEGIN:VTIMEZONE
TZID:Europe/Berlin
BEGIN:DAYLIGHT
TZOFFSETFROM:+0100
TZOFFSETTO:+0200
TZNAME:CEST
DTSTART:20240331T010000
END:DAYLIGHT
BEGIN:STANDARD
TZOFFSETFROM:+0200
TZOFFSETTO:+0100
TZNAME:CET
DTSTART:20241027T010000
END:STANDARD
END:VTIMEZONE
BEGIN:VEVENT
DTSTART;TZID=Europe/Berlin:20241207T200000
DTEND;TZID=Europe/Berlin:20241207T220000
DTSTAMP:20260423T135422
CREATED:20240708T124045Z
LAST-MODIFIED:20240916T144621Z
UID:10001122-1733601600-1733608800@www.arena-hohenlohe.com
SUMMARY:BARMER 2. Basketball-Bundesliga MERLINS vs. RASTA Vechta II
DESCRIPTION:Am Samstag empfangen die HAKRO Merlins Crailsheim in der Arena Hohenlohe das Team von RASTA Vechta II (Spielbeginn: 20:00 Uhr).\nweitere Infos
URL:https://www.arena-hohenlohe.com/en/events/barmer-2-basketball-bundesliga-merlins-vs-rasta-vechta-ii/
LOCATION:Arena Hohenlohe\, Justus-von-Liebig-Str. 1\, Ilshofen\, 74532\, Deutschland
ATTACH;FMTTYPE=image/jpeg:https://www.arena-hohenlohe.com/wp-content/uploads/2024/07/a_PHILIPPREINHARD.COM_MERLINS_24_25_Rostock_L1003234-1.jpg
END:VEVENT
BEGIN:VEVENT
DTSTART;TZID=Europe/Berlin:20241218T103000
DTEND;TZID=Europe/Berlin:20241218T160000
DTSTAMP:20260423T135422
CREATED:20240223T111240Z
LAST-MODIFIED:20240320T160214Z
UID:10001099-1734517800-1734537600@www.arena-hohenlohe.com
SUMMARY:Zuchtviehauktion
DESCRIPTION:Auf der Auktion erwartet Sie ein umfangreiches Angebot an besten Zuchttieren der Rassen Fleckvieh und Holsteins und ein großes Fleckvieh-Mastkälberangebot.Wir freuen uns auf Ihren Besuch. Weitere Infos zum Tierangebot erhalten Sie bei unserem Vermarktungsleiter Dr. Goran Vuckovic unter 0172-767 19 42. \nweitere Infos
URL:https://www.arena-hohenlohe.com/en/events/zuchtviehauktion-63-5/
ATTACH;FMTTYPE=image/jpeg:https://www.arena-hohenlohe.com/wp-content/uploads/2022/12/IMG_4594-scaled.jpg
END:VEVENT
BEGIN:VEVENT
DTSTART;TZID=Europe/Berlin:20241223T193000
DTEND;TZID=Europe/Berlin:20241223T213000
DTSTAMP:20260423T135422
CREATED:20240708T124311Z
LAST-MODIFIED:20240708T124311Z
UID:10001123-1734982200-1734989400@www.arena-hohenlohe.com
SUMMARY:BARMER 2. Basketball-Bundesliga MERLINS vs. Dresden Titans
DESCRIPTION:Am Montag empfangen die HAKRO Merlins Crailsheim in der Arena Hohenlohe das Team der Dresden Titans (Spielbeginn: 19:30 Uhr).\nweitere Infos
URL:https://www.arena-hohenlohe.com/en/events/barmer-2-basketball-bundesliga-merlins-vs-dresden-titans/
LOCATION:Arena Hohenlohe\, Justus-von-Liebig-Str. 1\, Ilshofen\, 74532\, Deutschland
ATTACH;FMTTYPE=image/jpeg:https://www.arena-hohenlohe.com/wp-content/uploads/2018/08/hakro-merlins-crailsheim.jpg
END:VEVENT
BEGIN:VEVENT
DTSTART;TZID=Europe/Berlin:20241226T200000
DTEND;TZID=Europe/Berlin:20241227T020000
DTSTAMP:20260423T135422
CREATED:20240708T140427Z
LAST-MODIFIED:20240708T140427Z
UID:10001135-1735243200-1735264800@www.arena-hohenlohe.com
SUMMARY:Weihnachtstanz Landjugend Schwäbisch Hall
DESCRIPTION:DIE Party des Jahres\nimmer am zweiten Weihnachtsfeiertag\nimmer bei der Landjugend Schwäbisch Hall e.V.\n\nWeitere Infos hier!
URL:https://www.arena-hohenlohe.com/en/events/weihnachtstanz-landjugend-schwaebisch-hall-4/
LOCATION:Arena Hohenlohe\, Justus-von-Liebig-Str. 1\, Ilshofen\, 74532\, Deutschland
ATTACH;FMTTYPE=image/jpeg:https://www.arena-hohenlohe.com/wp-content/uploads/2024/07/Weihnachtstanz.jpg
END:VEVENT
END:VCALENDAR