BEGIN:VCALENDAR
VERSION:2.0
PRODID:-//Arena Hohenlohe - ECPv6.5.1.1//NONSGML v1.0//EN
CALSCALE:GREGORIAN
METHOD:PUBLISH
X-ORIGINAL-URL:https://www.arena-hohenlohe.com/en/
X-WR-CALDESC:Events for Arena Hohenlohe
REFRESH-INTERVAL;VALUE=DURATION:PT1H
X-Robots-Tag:noindex
X-PUBLISHED-TTL:PT1H
BEGIN:VTIMEZONE
TZID:Europe/Berlin
BEGIN:DAYLIGHT
TZOFFSETFROM:+0100
TZOFFSETTO:+0200
TZNAME:CEST
DTSTART:20240331T010000
END:DAYLIGHT
BEGIN:STANDARD
TZOFFSETFROM:+0200
TZOFFSETTO:+0100
TZNAME:CET
DTSTART:20241027T010000
END:STANDARD
END:VTIMEZONE
BEGIN:VEVENT
DTSTART;TZID=Europe/Berlin:20241102T200000
DTEND;TZID=Europe/Berlin:20241102T220000
DTSTAMP:20260423T151701
CREATED:20240708T123626Z
LAST-MODIFIED:20240916T144335Z
UID:10001120-1730577600-1730584800@www.arena-hohenlohe.com
SUMMARY:BARMER 2. Basketball-Bundesliga MERLINS vs. Gießen 46ers
DESCRIPTION:Am Samstag empfangen die HAKRO Merlins Crailsheim in der Arena Hohenlohe das Team der Gießen 46ers (Spielbeginn: 20:00 Uhr).\nweitere Infos
URL:https://www.arena-hohenlohe.com/en/events/barmer-2-basketball-bundesliga-merlins-vs-giessen-46ers/
LOCATION:Arena Hohenlohe\, Justus-von-Liebig-Str. 1\, Ilshofen\, 74532\, Deutschland
ATTACH;FMTTYPE=image/jpeg:https://www.arena-hohenlohe.com/wp-content/uploads/2024/07/a_PHILIPPREINHARD.COM_Merlins_Mediaday_24_L1030359-scaled.jpg
END:VEVENT
BEGIN:VEVENT
DTSTART;TZID=Europe/Berlin:20241109T100000
DTEND;TZID=Europe/Berlin:20241110T170000
DTSTAMP:20260423T151701
CREATED:20240223T111244Z
LAST-MODIFIED:20240223T141025Z
UID:10001108-1731146400-1731258000@www.arena-hohenlohe.com
SUMMARY:Fachkräftetage – Die Berufs- und Karrieremesse 2024
DESCRIPTION:Fachkräftetage – Die Berufs- und Karrieremesse 2024\nDie Messe findet vom 09. bis 10. November 2024 wieder in der Arena Hohenlohe in Ilshofen statt. \nAuf den FACHKRÄFTETAGEN haben Arbeitnehmer die Gelegenheit\, direkt und persönlich\, ohne Bewerbungsverfahren\, mit den Personalentscheidern der Unternehmen ins Gespräch zu kommen. Die Stellen- und Weiterbildungsangebote richten sich vor allem an Fachkräfte und Akademiker\, die nach neuen beruflichen Herausforderungen suchen\, aber auch an Hochschulabsolventen\, die sich über die vielfältigen Einstiegsmöglichkeiten bei einem der heimischen Betriebe informieren wollen und natürlich an Arbeitnehmer\, die durch externe Weiterbildung innerbetrieblich auf der Karriereleiter weiter vorankommen wollen. \nDie Besucher erwartet ein Jobangebot von mehr als 500 offenen Stellen aus über 100 erfolgreichen Unternehmen und Institutionen unserer Region Hohenlohe-Franken. Dabei handelt es sich bei den teilnehmenden Unternehmen um Top-Arbeitgeber aus unterschiedlichen Branchen. \nWeitere Infos unter www.fachkräftetage.de \nÖffnungszeiten: \nSamstag von 10 bis 17 Uhr \nSonntag von 11 bis 17 Uhr \nDer Eintritt ist kostenlos. \nVeranstalter: \nSÜDWEST PRESSE Hohenlohe GmbH & Co. KG \nNadine Kettemann\nmessen.sho@swp.de \n0791 404 301
URL:https://www.arena-hohenlohe.com/en/events/fachkraeftetage-die-berufs-und-karrieremesse-2024/
ATTACH;FMTTYPE=image/png:https://www.arena-hohenlohe.com/wp-content/uploads/2024/02/jobboerse-2024.png
END:VEVENT
BEGIN:VEVENT
DTSTART;TZID=Europe/Berlin:20241113T130000
DTEND;TZID=Europe/Berlin:20241113T160000
DTSTAMP:20260423T151701
CREATED:20240223T111208Z
LAST-MODIFIED:20240223T141000Z
UID:10001097-1731502800-1731513600@www.arena-hohenlohe.com
SUMMARY:Kälberauktion
DESCRIPTION:Auf der Auktion erwartet Sie ein umfangreiches Angebot an Fleckvieh-Mastkälbern.Wir freuen uns auf Ihren Besuch. Weitere Infos zum Tierangebot und zum Kaufauftragsdienst erhalten Sie bei unserem Vermarktungsleiter Auktionskälber Markus Werner unter 0172-747 19 28. \nweitere Infos
URL:https://www.arena-hohenlohe.com/en/events/kaelberauktion-58-4/
ATTACH;FMTTYPE=image/jpeg:https://www.arena-hohenlohe.com/wp-content/uploads/2016/07/P1050582-e1469015768968.jpg
END:VEVENT
BEGIN:VEVENT
DTSTART;TZID=Europe/Berlin:20241116T200000
DTEND;TZID=Europe/Berlin:20241116T220000
DTSTAMP:20260423T151701
CREATED:20240708T123818Z
LAST-MODIFIED:20240916T144505Z
UID:10001121-1731787200-1731794400@www.arena-hohenlohe.com
SUMMARY:BARMER 2. Basketball-Bundesliga MERLINS vs. VfL SparkassenStars Bochum
DESCRIPTION:Am Samstag empfangen die HAKRO Merlins Crailsheim in der Arena Hohenlohe das Team der VfL SparkassenStars Bochum (Spielbeginn: 20:00 Uhr).\nweitere Infos
URL:https://www.arena-hohenlohe.com/en/events/barmer-2-basketball-bundesliga-merlins-vs-vfl-sparkassenstars-bochum/
LOCATION:Arena Hohenlohe\, Justus-von-Liebig-Str. 1\, Ilshofen\, 74532\, Deutschland
ATTACH;FMTTYPE=image/jpeg:https://www.arena-hohenlohe.com/wp-content/uploads/2024/07/a_PHILIPPREINHARD.COM_MERLINS_24_25_Rostock_S1630737-1.jpg
END:VEVENT
BEGIN:VEVENT
DTSTART;TZID=Europe/Berlin:20241123T193000
DTEND;TZID=Europe/Berlin:20241123T220000
DTSTAMP:20260423T151701
CREATED:20240701T124729Z
LAST-MODIFIED:20240701T124729Z
UID:10001116-1732390200-1732399200@www.arena-hohenlohe.com
SUMMARY:Hohenlohe International Tattoo
DESCRIPTION:Faszination Dudelsack – Erleben Sie mit dem „Hohenlohe International Tattoo“ wieder einen musikalischen Abend der besonderen Art. \nEinlass: 18:00\, Beginn: 19:30 \nDer Kartenverkauf startet am Donnerstag\, den 04. Juli 2024. Die Karten sind erhältlich beim Hohenloher Tagblatt in Crailsheim.
URL:https://www.arena-hohenlohe.com/en/events/hohenlohe-international-tattoo-2/
LOCATION:Arena Hohenlohe\, Justus-von-Liebig-Str. 1\, Ilshofen\, 74532\, Deutschland
ATTACH;FMTTYPE=image/png:https://www.arena-hohenlohe.com/wp-content/uploads/2024/07/Tattoo_2024.png
END:VEVENT
BEGIN:VEVENT
DTSTART;TZID=Europe/Berlin:20241127T103000
DTEND;TZID=Europe/Berlin:20241127T160000
DTSTAMP:20260423T151701
CREATED:20240223T111208Z
LAST-MODIFIED:20240223T140935Z
UID:10001098-1732703400-1732723200@www.arena-hohenlohe.com
SUMMARY:Zuchtviehauktion
DESCRIPTION:Auf der Auktion erwartet Sie ein umfangreiches Angebot an besten Zuchttieren der Rassen Fleckvieh und Holsteins und ein großes Fleckvieh-Mastkälberangebot.Wir freuen uns auf Ihren Besuch. Weitere Infos zum Tierangebot erhalten Sie bei unserem Vermarktungsleiter Dr. Goran Vuckovic unter 0172-767 19 42. \nweitere Infos
URL:https://www.arena-hohenlohe.com/en/events/zuchtviehauktion-63-6/
ATTACH;FMTTYPE=image/jpeg:https://www.arena-hohenlohe.com/wp-content/uploads/2016/07/Mehrzweckhallen-und-Arena-retu-e1469016511649.jpg
END:VEVENT
BEGIN:VEVENT
DTSTART;TZID=Europe/Berlin:20241127T200000
DTEND;TZID=Europe/Berlin:20241127T220000
DTSTAMP:20260423T151701
CREATED:20241001T073113Z
LAST-MODIFIED:20241001T073411Z
UID:10001169-1732737600-1732744800@www.arena-hohenlohe.com
SUMMARY:BARMER 2. Basketball-Bundesliga MERLINS vs. Gladiators Trier
DESCRIPTION:Am Mittwoch empfangen die HAKRO Merlins Crailsheim in der Arena Hohenlohe das Team der Gladiators Trier (Spielbeginn: 20:00 Uhr).\nweitere Infos
URL:https://www.arena-hohenlohe.com/en/events/barmer-2-basketball-bundesliga-merlins-vs-gladiators-trier/
LOCATION:Arena Hohenlohe\, Justus-von-Liebig-Str. 1\, Ilshofen\, 74532\, Deutschland
ATTACH;FMTTYPE=image/jpeg:https://www.arena-hohenlohe.com/wp-content/uploads/2024/07/a_PHILIPPREINHARD.COM_MERLINS_24_25_Rostock_L1003048.jpg
END:VEVENT
END:VCALENDAR