BEGIN:VCALENDAR
VERSION:2.0
PRODID:-//Arena Hohenlohe - ECPv6.5.1.1//NONSGML v1.0//EN
CALSCALE:GREGORIAN
METHOD:PUBLISH
X-ORIGINAL-URL:https://www.arena-hohenlohe.com/en/
X-WR-CALDESC:Events for Arena Hohenlohe
REFRESH-INTERVAL;VALUE=DURATION:PT1H
X-Robots-Tag:noindex
X-PUBLISHED-TTL:PT1H
BEGIN:VTIMEZONE
TZID:Europe/Berlin
BEGIN:DAYLIGHT
TZOFFSETFROM:+0100
TZOFFSETTO:+0200
TZNAME:CEST
DTSTART:20260329T010000
END:DAYLIGHT
BEGIN:STANDARD
TZOFFSETFROM:+0200
TZOFFSETTO:+0100
TZNAME:CET
DTSTART:20261025T010000
END:STANDARD
BEGIN:DAYLIGHT
TZOFFSETFROM:+0100
TZOFFSETTO:+0200
TZNAME:CEST
DTSTART:20270328T010000
END:DAYLIGHT
BEGIN:STANDARD
TZOFFSETFROM:+0200
TZOFFSETTO:+0100
TZNAME:CET
DTSTART:20271031T010000
END:STANDARD
END:VTIMEZONE
BEGIN:VEVENT
DTSTART;TZID=Europe/Berlin:20261125T103000
DTEND;TZID=Europe/Berlin:20261125T160000
DTSTAMP:20260419T230716
CREATED:20250910T084149Z
LAST-MODIFIED:20250910T084149Z
UID:10001225-1795602600-1795622400@www.arena-hohenlohe.com
SUMMARY:Zuchtviehauktion
DESCRIPTION:Auf der Auktion erwartet Sie ein umfangreiches Angebot an besten Zuchttieren der Rassen Fleckvieh und Holsteins und ein großes Fleckvieh-Mastkälberangebot.Wir freuen uns auf Ihren Besuch. Weitere Infos zum Tierangebot erhalten Sie bei unserem Vermarktungsleiter Dr. Goran Vuckovic unter 0172-767 19 42. \nweitere Infos
URL:https://www.arena-hohenlohe.com/en/events/zuchtviehauktion-88/
ATTACH;FMTTYPE=image/jpeg:https://www.arena-hohenlohe.com/wp-content/uploads/2016/07/Mehrzweckhallen-und-Arena-retu-e1469016511649.jpg
END:VEVENT
BEGIN:VEVENT
DTSTART;TZID=Europe/Berlin:20261209T130000
DTEND;TZID=Europe/Berlin:20261209T160000
DTSTAMP:20260419T230716
CREATED:20250910T084252Z
LAST-MODIFIED:20250910T084252Z
UID:10001226-1796821200-1796832000@www.arena-hohenlohe.com
SUMMARY:Kälberauktion
DESCRIPTION:Auf der Auktion erwartet Sie ein umfangreiches Angebot an Fleckvieh-Mastkälbern.Wir freuen uns auf Ihren Besuch. Weitere Infos zum Tierangebot und zum Kaufauftragsdienst erhalten Sie bei unserem Vermarktungsleiter Auktionskälber Markus Werner unter 0172-747 19 28. \nweitere Infos
URL:https://www.arena-hohenlohe.com/en/events/kaelberauktion-84/
ATTACH;FMTTYPE=image/jpeg:https://www.arena-hohenlohe.com/wp-content/uploads/2016/07/P1050582-e1469015768968.jpg
END:VEVENT
BEGIN:VEVENT
DTSTART;TZID=Europe/Berlin:20261212T160000
DTEND;TZID=Europe/Berlin:20261213T030000
DTSTAMP:20260419T230716
CREATED:20251001T125818Z
LAST-MODIFIED:20260206T102007Z
UID:10001236-1797091200-1797130800@www.arena-hohenlohe.com
SUMMARY:Gamechanger Festival - Upgrade your Life
DESCRIPTION:GAMECHANGER FESTIVAL- UPGRADE YOUR LIFE\n\n\n\n\nDas GRÖßTE FEEL GOOD – FEEL BETTER – FEEL BEST – FESTIVAL in THE LÄND. \nDiese Show verändert Dein Leben. Erfahre alles\, was Du wissen musst in diesem einen Event von Deutschlands führenden Expert:innen rund um das richtige MINDSET und die besten Erfolgsrategien\, um – trotz aller Widrigkeiten –  das Leben Deiner Träume zu führen. Sei auch du ein GAMECHANGER. UPGRADE YOUR LIFE. NOW. \n\n\n\nSei auch Du ein GAMECHANGER\n\n\n\n\nBei diesem deutschlandweit einzigartigen SHOW-EVENT mit Festival in und an der Arena Hohenlohe in Ilshofen (Baden-Württemberg) dreht sich alles um die Frage: Wie werde auch ich selbst ein GAMECHANGER in meinem Leben? Den ersten Schritt machst Du\, wenn auch Du dabei bist. Get your dream life started. NOW. \nAlle Infos findest Du hier! \n\n\n\n\n\nTickets findest Du hier! 
URL:https://www.arena-hohenlohe.com/en/events/gamechanger-festival-upgrade-your-life/
LOCATION:Arena Hohenlohe\, Justus-von-Liebig-Str. 1\, Ilshofen\, 74532\, Deutschland
ATTACH;FMTTYPE=image/png:https://www.arena-hohenlohe.com/wp-content/uploads/2025/10/Gamechanger-Festival_2025.png
ORGANIZER;CN="Hohenlohe Medien%2C K%C3%BCnzelsau":MAILTO:info@gamechanger-festival.de
END:VEVENT
BEGIN:VEVENT
DTSTART;TZID=Europe/Berlin:20261221T103000
DTEND;TZID=Europe/Berlin:20261221T160000
DTSTAMP:20260419T230716
CREATED:20250910T084400Z
LAST-MODIFIED:20250910T084400Z
UID:10001227-1797849000-1797868800@www.arena-hohenlohe.com
SUMMARY:Zuchtviehauktion
DESCRIPTION:Auf der Auktion erwartet Sie ein umfangreiches Angebot an besten Zuchttieren der Rassen Fleckvieh und Holsteins und ein großes Fleckvieh-Mastkälberangebot.Wir freuen uns auf Ihren Besuch. Weitere Infos zum Tierangebot erhalten Sie bei unserem Vermarktungsleiter Dr. Goran Vuckovic unter 0172-767 19 42. \nweitere Infos
URL:https://www.arena-hohenlohe.com/en/events/zuchtviehauktion-89/
ATTACH;FMTTYPE=image/jpeg:https://www.arena-hohenlohe.com/wp-content/uploads/2022/12/IMG_4594-scaled.jpg
END:VEVENT
BEGIN:VEVENT
DTSTART;VALUE=DATE:20270109
DTEND;VALUE=DATE:20270111
DTSTAMP:20260419T230716
CREATED:20250910T090922Z
LAST-MODIFIED:20250910T090922Z
UID:10001230-1799452800-1799625599@www.arena-hohenlohe.com
SUMMARY:16. internationaler BWK-Arenacup
DESCRIPTION:Der Internationale U15 BWK-ArenaCup steht fest im Veranstaltungskalender der Arena Hohenlohe. Damit geht der Fußball Förderverein Ilshofen mit dem hochkarätig besetzten Jugendturnier mittlerweile in die fünfzehnte Auflage.\nweitere Infos
URL:https://www.arena-hohenlohe.com/en/events/16-internationaler-bwk-arenacup/
ATTACH;FMTTYPE=image/png:https://www.arena-hohenlohe.com/wp-content/uploads/2022/05/bwk_bild.png
END:VEVENT
BEGIN:VEVENT
DTSTART;TZID=Europe/Berlin:20270130T130000
DTEND;TZID=Europe/Berlin:20270131T170000
DTSTAMP:20260419T230716
CREATED:20250910T091035Z
LAST-MODIFIED:20250910T091035Z
UID:10001231-1801314000-1801414800@www.arena-hohenlohe.com
SUMMARY:LandMesse
DESCRIPTION:Die LandMesse der Maschinenringe Schwäbisch Hall und Crailsheim findet am 30. Januar und 31. Januar 2027 wie gewohnt in der Arena Hohenlohe statt.\n•Gebrauchtmaschinenausstellung\n•Ausstellung mit 70 Ausstellern\n•interessante Fachvorträge am Sonntag\n•Maschinenvorführungen\n•Ausstellung unserer Mietmaschinen\n•Forstmaschinenausstellung \nweitere Infos
URL:https://www.arena-hohenlohe.com/en/events/landmesse-6/
ATTACH;FMTTYPE=image/jpeg:https://www.arena-hohenlohe.com/wp-content/uploads/2024/02/Landmesse_Bild.jpg
END:VEVENT
BEGIN:VEVENT
DTSTART;VALUE=DATE:20270305
DTEND;VALUE=DATE:20270308
DTSTAMP:20260419T230716
CREATED:20250910T091135Z
LAST-MODIFIED:20250910T091135Z
UID:10001232-1804204800-1804463999@www.arena-hohenlohe.com
SUMMARY:HVM - Hohenloher Verbrauchermesse 2027
DESCRIPTION:Herzlich Willkommen! Die HOHENLOHER VERBRAUCHERMESSE HVM ist eine Plattform\, auf der sich Verbraucher umfassend über die Angebote und Leistungen der Gewerbetreibenden in der Wirtschaftsregion Hohenlohe-Franken informieren können.\nWeitere Infos hier!
URL:https://www.arena-hohenlohe.com/en/events/hvm-hohenloher-verbrauchermesse-2027/
ATTACH;FMTTYPE=image/png:https://www.arena-hohenlohe.com/wp-content/uploads/2017/07/HVM_Logo.png
END:VEVENT
BEGIN:VEVENT
DTSTART;TZID=Europe/Berlin:20270314T091500
DTEND;TZID=Europe/Berlin:20270314T150000
DTSTAMP:20260419T230716
CREATED:20250910T091318Z
LAST-MODIFIED:20250910T091318Z
UID:10001233-1805015700-1805036400@www.arena-hohenlohe.com
SUMMARY:RBW-Schau 2027
DESCRIPTION:Am 14 März 2027 findet wieder eine gemeinsame Landesschau mit den Rassen Fleckvieh\, Holsteins und Brown Swiss in der Arena Hohenlohe in Ilshofen statt.\nDie Schau beginnt am Sonntag mit einem Wortgottesdienst um 9.15 Uhr. Gegen 10.00 Uhr startet das Richten der jüngeren Kuhklassen der einzelnen Rassen. Begleitend hierzu besteht in der Gastronomie der Vermarktungseinrichtung die Möglichkeit sich um das leibliche Wohl zu kümmern. Eine Reihe von Ausstellern des vor- und nachgelagerten Bereiches ermöglichen es sich zu informieren und geben der Schau den nötigen Messecharakter. \nNach der Wahl der Grand Champions 2027 und der Siegerehrung ist das Schauende auf 15.30 Uhr geplant. \n  \nweitere Infos
URL:https://www.arena-hohenlohe.com/en/events/rbw-schau-2027/
LOCATION:Arena Hohenlohe\, Justus-von-Liebig-Str. 1\, Ilshofen\, 74532\, Deutschland
ATTACH;FMTTYPE=image/jpeg:https://www.arena-hohenlohe.com/wp-content/uploads/2024/02/20230312_111559-scaled-e1710950213760.jpg
END:VEVENT
END:VCALENDAR