BEGIN:VCALENDAR
VERSION:2.0
PRODID:-//Arena Hohenlohe - ECPv6.5.1.1//NONSGML v1.0//EN
CALSCALE:GREGORIAN
METHOD:PUBLISH
X-WR-CALNAME:Arena Hohenlohe
X-ORIGINAL-URL:https://www.arena-hohenlohe.com/en/
X-WR-CALDESC:Events for Arena Hohenlohe
REFRESH-INTERVAL;VALUE=DURATION:PT1H
X-Robots-Tag:noindex
X-PUBLISHED-TTL:PT1H
BEGIN:VTIMEZONE
TZID:Europe/Berlin
BEGIN:DAYLIGHT
TZOFFSETFROM:+0100
TZOFFSETTO:+0200
TZNAME:CEST
DTSTART:20240331T010000
END:DAYLIGHT
BEGIN:STANDARD
TZOFFSETFROM:+0200
TZOFFSETTO:+0100
TZNAME:CET
DTSTART:20241027T010000
END:STANDARD
END:VTIMEZONE
BEGIN:VEVENT
DTSTART;TZID=Europe/Berlin:20240928T200000
DTEND;TZID=Europe/Berlin:20240928T220000
DTSTAMP:20260423T235926
CREATED:20240708T121446Z
LAST-MODIFIED:20240916T142243Z
UID:10001117-1727553600-1727560800@www.arena-hohenlohe.com
SUMMARY:BARMER 2. Basketball-Bundesliga MERLINS vs. Nürnberg Falcons
DESCRIPTION:Am Samstag empfangen die HAKRO Merlins Crailsheim in der Arena Hohenlohe das Team der Nürnberg Falcons (Spielbeginn: 20:00 Uhr).\nweitere Infos
URL:https://www.arena-hohenlohe.com/en/events/barmer-2-basketball-bundesliga-merlins-vs-nuernberg-falcons/
LOCATION:Arena Hohenlohe\, Justus-von-Liebig-Str. 1\, Ilshofen\, 74532\, Deutschland
ATTACH;FMTTYPE=image/jpeg:https://www.arena-hohenlohe.com/wp-content/uploads/2024/07/a_PHILIPPREINHARD.COM_MERLINS_24_25_Rostock_L1002884-2-1.jpg
END:VEVENT
BEGIN:VEVENT
DTSTART;TZID=Europe/Berlin:20240914T183000
DTEND;TZID=Europe/Berlin:20240914T210000
DTSTAMP:20260423T235926
CREATED:20240805T143559Z
LAST-MODIFIED:20240805T143559Z
UID:10001137-1726338600-1726347600@www.arena-hohenlohe.com
SUMMARY:BBL-Pokal 1. Runde MERLINS vs. Rostock Seawolves
DESCRIPTION:Der erste Pflichtspielgegner der HAKRO Merlins Crailsheim steht fest: Am Samstag\, den 14. September treffen die Zauberer im Rahmen des BBL-Pokals in der Arena Hohenlohe auf die Rostock Seawolves. (Spielbeginn: 18:30 Uhr).\nweitere Infos
URL:https://www.arena-hohenlohe.com/en/events/bbl-pokal-1-runde-merlins-vs-rostock-seawolves/
LOCATION:Arena Hohenlohe\, Justus-von-Liebig-Str. 1\, Ilshofen\, 74532\, Deutschland
ATTACH;FMTTYPE=image/jpeg:https://www.arena-hohenlohe.com/wp-content/uploads/2021/09/Merlins_7.jpg
END:VEVENT
BEGIN:VEVENT
DTSTART;TZID=Europe/Berlin:20240907T070000
DTEND;TZID=Europe/Berlin:20240907T120000
DTSTAMP:20260423T235926
CREATED:20240223T111243Z
LAST-MODIFIED:20240502T131750Z
UID:10001107-1725692400-1725710400@www.arena-hohenlohe.com
SUMMARY:Vogelbörse
DESCRIPTION:Die erfolgreiche Vogelbörse mit über 300 Ausstellern und mehr als 4.000 Verkaufstieren.\nhttp://www.vogelboerse-crailsheim.de/
URL:https://www.arena-hohenlohe.com/en/events/vogelboerse-5-2/
ATTACH;FMTTYPE=image/jpeg:https://www.arena-hohenlohe.com/wp-content/uploads/2015/10/Vogelbörse.jpg
END:VEVENT
BEGIN:VEVENT
DTSTART;TZID=Europe/Berlin:20240904T103000
DTEND;TZID=Europe/Berlin:20240904T160000
DTSTAMP:20260423T235926
CREATED:20240223T111157Z
LAST-MODIFIED:20240223T141414Z
UID:10001093-1725445800-1725465600@www.arena-hohenlohe.com
SUMMARY:Zuchtviehauktion
DESCRIPTION:Auf der Auktion erwartet Sie ein umfangreiches Angebot an besten Zuchttieren der Rassen Fleckvieh und Holsteins und ein großes Fleckvieh-Mastkälberangebot.Wir freuen uns auf Ihren Besuch. Weitere Infos zum Tierangebot erhalten Sie bei unserem Vermarktungsleiter Dr. Goran Vuckovic unter 0172-767 19 42. \nweitere Infos
URL:https://www.arena-hohenlohe.com/en/events/zuchtviehauktion-63-9/
ATTACH;FMTTYPE=image/jpeg:https://www.arena-hohenlohe.com/wp-content/uploads/2016/07/Mehrzweckhallen-und-Arena-retu-e1469016511649.jpg
END:VEVENT
BEGIN:VEVENT
DTSTART;TZID=Europe/Berlin:20240821T130000
DTEND;TZID=Europe/Berlin:20240821T160000
DTSTAMP:20260423T235926
CREATED:20240223T111156Z
LAST-MODIFIED:20240223T141610Z
UID:10001092-1724245200-1724256000@www.arena-hohenlohe.com
SUMMARY:Kälberauktion
DESCRIPTION:Auf der Auktion erwartet Sie ein umfangreiches Angebot an Fleckvieh-Mastkälbern.Wir freuen uns auf Ihren Besuch. Weitere Infos zum Tierangebot und zum Kaufauftragsdienst erhalten Sie bei unserem Vermarktungsleiter Auktionskälber Markus Werner unter 0172-747 19 28. \nweitere Infos
URL:https://www.arena-hohenlohe.com/en/events/kaelberauktion-58-6/
ATTACH;FMTTYPE=image/jpeg:https://www.arena-hohenlohe.com/wp-content/uploads/2016/07/P1050582-e1469015768968.jpg
END:VEVENT
BEGIN:VEVENT
DTSTART;TZID=Europe/Berlin:20240807T103000
DTEND;TZID=Europe/Berlin:20240807T160000
DTSTAMP:20260423T235926
CREATED:20240223T111156Z
LAST-MODIFIED:20240223T141450Z
UID:10001091-1723026600-1723046400@www.arena-hohenlohe.com
SUMMARY:Zuchtviehauktion
DESCRIPTION:Auf der Auktion erwartet Sie ein umfangreiches Angebot an besten Zuchttieren der Rassen Fleckvieh und Holsteins und ein großes Fleckvieh-Mastkälberangebot.Wir freuen uns auf Ihren Besuch. Weitere Infos zum Tierangebot erhalten Sie bei unserem Vermarktungsleiter Dr. Goran Vuckovic unter 0172-767 19 42. \nweitere Infos
URL:https://www.arena-hohenlohe.com/en/events/zuchtviehauktion-63-10/
ATTACH;FMTTYPE=image/jpeg:https://www.arena-hohenlohe.com/wp-content/uploads/2016/07/Mehrzweckhallen-und-Arena-retu-e1469016511649.jpg
END:VEVENT
BEGIN:VEVENT
DTSTART;TZID=Europe/Berlin:20240724T130000
DTEND;TZID=Europe/Berlin:20240724T160000
DTSTAMP:20260423T235926
CREATED:20240223T111156Z
LAST-MODIFIED:20240223T141911Z
UID:10001090-1721826000-1721836800@www.arena-hohenlohe.com
SUMMARY:Kälberauktion
DESCRIPTION:Auf der Auktion erwartet Sie ein umfangreiches Angebot an Fleckvieh-Mastkälbern.Wir freuen uns auf Ihren Besuch. Weitere Infos zum Tierangebot und zum Kaufauftragsdienst erhalten Sie bei unserem Vermarktungsleiter Auktionskälber Markus Werner unter 0172-747 19 28. \nweitere Infos
URL:https://www.arena-hohenlohe.com/en/events/kaelberauktion-58-7/
ATTACH;FMTTYPE=image/jpeg:https://www.arena-hohenlohe.com/wp-content/uploads/2016/07/P1050582-e1469015768968.jpg
END:VEVENT
BEGIN:VEVENT
DTSTART;TZID=Europe/Berlin:20240710T103000
DTEND;TZID=Europe/Berlin:20240710T160000
DTSTAMP:20260423T235926
CREATED:20240223T111156Z
LAST-MODIFIED:20240223T141626Z
UID:10001089-1720607400-1720627200@www.arena-hohenlohe.com
SUMMARY:Zuchtviehauktion
DESCRIPTION:Auf der Auktion erwartet Sie ein umfangreiches Angebot an besten Zuchttieren der Rassen Fleckvieh und Holsteins und ein großes Fleckvieh-Mastkälberangebot.Wir freuen uns auf Ihren Besuch. Weitere Infos zum Tierangebot erhalten Sie bei unserem Vermarktungsleiter Dr. Goran Vuckovic unter 0172-767 19 42. \nweitere Infos
URL:https://www.arena-hohenlohe.com/en/events/zuchtviehauktion-63-11/
ATTACH;FMTTYPE=image/jpeg:https://www.arena-hohenlohe.com/wp-content/uploads/2016/07/Mehrzweckhallen-und-Arena-retu-e1469016511649.jpg
END:VEVENT
BEGIN:VEVENT
DTSTART;TZID=Europe/Berlin:20240705T140000
DTEND;TZID=Europe/Berlin:20240705T190000
DTSTAMP:20260423T235926
CREATED:20240223T111243Z
LAST-MODIFIED:20240522T090738Z
UID:10001104-1720188000-1720206000@www.arena-hohenlohe.com
SUMMARY:DRK-Blutspendeaktion
DESCRIPTION:Blutspenden in Ilshofen!\nTermin bitte online reservieren und den Personalausweis nicht vergessen! \nWeitere Infos und die Online-Anmeldung finden Sie hier!
URL:https://www.arena-hohenlohe.com/en/events/drk-blutspendeaktion-2-2/
ATTACH;FMTTYPE=image/jpeg:https://www.arena-hohenlohe.com/wp-content/uploads/2020/08/DRK.jpg
END:VEVENT
BEGIN:VEVENT
DTSTART;TZID=Europe/Berlin:20240612T103000
DTEND;TZID=Europe/Berlin:20240612T160000
DTSTAMP:20260423T235926
CREATED:20240223T111154Z
LAST-MODIFIED:20240223T141944Z
UID:10001088-1718188200-1718208000@www.arena-hohenlohe.com
SUMMARY:Zuchtviehauktion
DESCRIPTION:Auf der Auktion erwartet Sie ein umfangreiches Angebot an besten Zuchttieren der Rassen Fleckvieh und Holsteins und ein großes Fleckvieh-Mastkälberangebot.Wir freuen uns auf Ihren Besuch. Weitere Infos zum Tierangebot erhalten Sie bei unserem Vermarktungsleiter Dr. Goran Vuckovic unter 0172-767 19 42. \nweitere Infos
URL:https://www.arena-hohenlohe.com/en/events/zuchtviehauktion-63-12/
ATTACH;FMTTYPE=image/jpeg:https://www.arena-hohenlohe.com/wp-content/uploads/2016/07/Mehrzweckhallen-und-Arena-retu-e1469016511649.jpg
END:VEVENT
BEGIN:VEVENT
DTSTART;TZID=Europe/Berlin:20240529T130000
DTEND;TZID=Europe/Berlin:20240529T160000
DTSTAMP:20260423T235926
CREATED:20240223T111154Z
LAST-MODIFIED:20240223T142150Z
UID:10001087-1716987600-1716998400@www.arena-hohenlohe.com
SUMMARY:Kälberauktion
DESCRIPTION:Auf der Auktion erwartet Sie ein umfangreiches Angebot an Fleckvieh-Mastkälbern.Wir freuen uns auf Ihren Besuch. Weitere Infos zum Tierangebot und zum Kaufauftragsdienst erhalten Sie bei unserem Vermarktungsleiter Auktionskälber Markus Werner unter 0172-747 19 28. \nweitere Infos
URL:https://www.arena-hohenlohe.com/en/events/kaelberauktion-58-8/
ATTACH;FMTTYPE=image/jpeg:https://www.arena-hohenlohe.com/wp-content/uploads/2016/07/P1050582-e1469015768968.jpg
END:VEVENT
BEGIN:VEVENT
DTSTART;TZID=Europe/Berlin:20240515T103000
DTEND;TZID=Europe/Berlin:20240515T160000
DTSTAMP:20260423T235926
CREATED:20240223T111154Z
LAST-MODIFIED:20240320T154509Z
UID:10001086-1715769000-1715788800@www.arena-hohenlohe.com
SUMMARY:Zuchtviehauktion
DESCRIPTION:Auf der Auktion erwartet Sie ein umfangreiches Angebot an besten Zuchttieren der Rassen Fleckvieh und Holsteins und ein großes Fleckvieh-Mastkälberangebot.Wir freuen uns auf Ihren Besuch. Weitere Infos zum Tierangebot erhalten Sie bei unserem Vermarktungsleiter Dr. Goran Vuckovic unter 0172-767 19 42. \nweitere Infos
URL:https://www.arena-hohenlohe.com/en/events/zuchtviehauktion-63-13/
ATTACH;FMTTYPE=image/jpeg:https://www.arena-hohenlohe.com/wp-content/uploads/2021/06/Laudate_DE0813471555_Domel_HaeberleA_kopf.jpg
END:VEVENT
BEGIN:VEVENT
DTSTART;TZID=Europe/Berlin:20240512T153000
DTEND;TZID=Europe/Berlin:20240512T173000
DTSTAMP:20260423T235926
CREATED:20240223T111253Z
LAST-MODIFIED:20240320T154307Z
UID:10001114-1715527800-1715535000@www.arena-hohenlohe.com
SUMMARY:easyCredit Basketball Bundesliga MERLINS vs. ALBA Berlin
DESCRIPTION:Am Sonntag empfangen die HAKRO Merlins Crailsheim in der Arena Hohenlohe das Team ALBA Berlin (Spielbeginn: 15:30 Uhr).\nweitere Infos
URL:https://www.arena-hohenlohe.com/en/events/easycredit-basketball-bundesliga-merlins-vs-alba-berlin-2-2/
ATTACH;FMTTYPE=image/jpeg:https://www.arena-hohenlohe.com/wp-content/uploads/2021/09/Merlins_1.jpg
END:VEVENT
BEGIN:VEVENT
DTSTART;TZID=Europe/Berlin:20240502T130000
DTEND;TZID=Europe/Berlin:20240502T160000
DTSTAMP:20260423T235926
CREATED:20240223T111154Z
LAST-MODIFIED:20240320T154129Z
UID:10001085-1714654800-1714665600@www.arena-hohenlohe.com
SUMMARY:Kälberauktion
DESCRIPTION:Auf der Auktion erwartet Sie ein umfangreiches Angebot an Fleckvieh-Mastkälbern.Wir freuen uns auf Ihren Besuch. Weitere Infos zum Tierangebot und zum Kaufauftragsdienst erhalten Sie bei unserem Vermarktungsleiter Auktionskälber Markus Werner unter 0172-747 19 28. \nweitere Infos
URL:https://www.arena-hohenlohe.com/en/events/kaelberauktion-58-9/
ATTACH;FMTTYPE=image/jpeg:https://www.arena-hohenlohe.com/wp-content/uploads/2022/12/Kaelbergruppe-e1710949273979.jpg
END:VEVENT
BEGIN:VEVENT
DTSTART;TZID=Europe/Berlin:20240427T200000
DTEND;TZID=Europe/Berlin:20240427T220000
DTSTAMP:20260423T235926
CREATED:20240223T111250Z
LAST-MODIFIED:20240320T153521Z
UID:10001113-1714248000-1714255200@www.arena-hohenlohe.com
SUMMARY:easyCredit Basketball Bundesliga MERLINS vs. ratiopharm ulm
DESCRIPTION:Am Samstag empfangen die HAKRO Merlins Crailsheim in der Arena Hohenlohe das Team von ratiopharm ulm (Spielbeginn: 20:00 Uhr).\nweitere Infos
URL:https://www.arena-hohenlohe.com/en/events/easycredit-basketball-bundesliga-merlins-vs-ratiopharm-ulm-2-2/
ATTACH;FMTTYPE=image/jpeg:https://www.arena-hohenlohe.com/wp-content/uploads/2021/09/Merlins_4.jpg
END:VEVENT
BEGIN:VEVENT
DTSTART;TZID=Europe/Berlin:20240420T200000
DTEND;TZID=Europe/Berlin:20240420T220000
DTSTAMP:20260423T235926
CREATED:20240223T111250Z
LAST-MODIFIED:20240223T142553Z
UID:10001112-1713643200-1713650400@www.arena-hohenlohe.com
SUMMARY:easyCredit Basketball Bundesliga MERLINS vs. Telekom Baskets Bonn
DESCRIPTION:Am Samstag empfangen die HAKRO Merlins Crailsheim in der Arena Hohenlohe das Team der Telekom Baskets Bonn (Spielbeginn: 20.00 Uhr).\nweitere Infos
URL:https://www.arena-hohenlohe.com/en/events/easycredit-basketball-bundesliga-merlins-vs-telekom-baskets-bonn-2/
ATTACH;FMTTYPE=image/jpeg:https://www.arena-hohenlohe.com/wp-content/uploads/2021/09/Merlins_5.jpg
END:VEVENT
BEGIN:VEVENT
DTSTART;TZID=Europe/Berlin:20240417T103000
DTEND;TZID=Europe/Berlin:20240417T160000
DTSTAMP:20260423T235926
CREATED:20240223T111153Z
LAST-MODIFIED:20240223T130944Z
UID:10001084-1713349800-1713369600@www.arena-hohenlohe.com
SUMMARY:Zuchtviehauktion
DESCRIPTION:Auf der Auktion erwartet Sie ein umfangreiches Angebot an besten Zuchttieren der Rassen Fleckvieh und Holsteins und ein großes Fleckvieh-Mastkälberangebot.Wir freuen uns auf Ihren Besuch. Weitere Infos zum Tierangebot erhalten Sie bei unserem Vermarktungsleiter Dr. Goran Vuckovic unter 0172-767 19 42. \nweitere Infos
URL:https://www.arena-hohenlohe.com/en/events/zuchtviehauktion-63-14/
ATTACH;FMTTYPE=image/jpeg:https://www.arena-hohenlohe.com/wp-content/uploads/2021/06/Laudate_DE0813471555_Domel_HaeberleA_kopf.jpg
END:VEVENT
BEGIN:VEVENT
DTSTART;TZID=Europe/Berlin:20240406T200000
DTEND;TZID=Europe/Berlin:20240406T220000
DTSTAMP:20260423T235926
CREATED:20240223T111250Z
LAST-MODIFIED:20240319T080250Z
UID:10001111-1712433600-1712440800@www.arena-hohenlohe.com
SUMMARY:easyCredit Basketball Bundesliga MERLINS vs. RASTA Vechta
DESCRIPTION:Am Samstag empfangen die HAKRO Merlins Crailsheim in der Arena Hohenlohe das Team RASTA Vechta (Spielbeginn: 20:00 Uhr).\nweitere Infos
URL:https://www.arena-hohenlohe.com/en/events/easycredit-basketball-bundesliga-merlins-vs-rasta-vechta-2/
ATTACH;FMTTYPE=image/jpeg:https://www.arena-hohenlohe.com/wp-content/uploads/2021/09/Merlins_jump.jpg
END:VEVENT
BEGIN:VEVENT
DTSTART;TZID=Europe/Berlin:20240331T200000
DTEND;TZID=Europe/Berlin:20240401T020000
DTSTAMP:20260423T235926
CREATED:20240223T111243Z
LAST-MODIFIED:20240223T125532Z
UID:10001105-1711915200-1711936800@www.arena-hohenlohe.com
SUMMARY:Ostertanz 2024
DESCRIPTION:Ostertanz Party Alert! \nSeid ihr bereit für eine unvergessliche Nacht? Der Ostertanz findet dieses Jahr ab 20:00 Uhr in die Arena in Ilshofen statt – Mit der großartigen Band „Playne“\, erfrischenden Drinks und einer Atmosphäre\, die euch mitreißt!\nUnter 18? Beachtet bitte\, dass eine volljährige Begleitperson\, ein Partypass\, ein Muttizettel und die Ausweiskopie der Eltern bzw. der Erziehungsberechtigten Person erforderlich sind.\n Eintritt nur an der Abendkasse: 10€\n lajus mit Busanreise bitte vorher bei der LJ SHA melden\nSeid bereit für einen unvergesslichen Abend\nInfos zur Veranstaltung
URL:https://www.arena-hohenlohe.com/en/events/ostertanz-2024/
ATTACH;FMTTYPE=image/png:https://www.arena-hohenlohe.com/wp-content/uploads/2024/02/Ostertanz-2024.png
END:VEVENT
BEGIN:VEVENT
DTSTART;TZID=Europe/Berlin:20240320T103000
DTEND;TZID=Europe/Berlin:20240320T160000
DTSTAMP:20260423T235926
CREATED:20240223T111141Z
LAST-MODIFIED:20240223T125112Z
UID:10001083-1710930600-1710950400@www.arena-hohenlohe.com
SUMMARY:Zuchtviehauktion
DESCRIPTION:Auf der Auktion erwartet Sie ein umfangreiches Angebot an besten Zuchttieren der Rassen Fleckvieh und Holsteins und ein großes Fleckvieh-Mastkälberangebot.Wir freuen uns auf Ihren Besuch. Weitere Infos zum Tierangebot erhalten Sie bei unserem Vermarktungsleiter Dr. Goran Vuckovic unter 0172-767 19 42. \nweitere Infos
URL:https://www.arena-hohenlohe.com/en/events/zuchtviehauktion-63-15/
ATTACH;FMTTYPE=image/jpeg:https://www.arena-hohenlohe.com/wp-content/uploads/2016/07/Mehrzweckhallen-und-Arena-retu-e1469016511649.jpg
END:VEVENT
BEGIN:VEVENT
DTSTART;TZID=Europe/Berlin:20240309T183000
DTEND;TZID=Europe/Berlin:20240309T203000
DTSTAMP:20260423T235926
CREATED:20240223T111240Z
LAST-MODIFIED:20240223T124510Z
UID:10001103-1710009000-1710016200@www.arena-hohenlohe.com
SUMMARY:easyCredit Basketball Bundesliga MERLINS vs. NINERS Chemnitz
DESCRIPTION:Am Samstag empfangen die HAKRO Merlins Crailsheim in der Arena Hohenlohe das Team der NINERS Chemnitz (Spielbeginn: 18:30 Uhr).\nweitere Infos
URL:https://www.arena-hohenlohe.com/en/events/easycredit-basketball-bundesliga-merlins-vs-niners-chemnitz-2/
ATTACH;FMTTYPE=image/jpeg:https://www.arena-hohenlohe.com/wp-content/uploads/2021/09/Merlins_6.jpg
END:VEVENT
BEGIN:VEVENT
DTSTART;TZID=Europe/Berlin:20240306T130000
DTEND;TZID=Europe/Berlin:20240306T160000
DTSTAMP:20260423T235926
CREATED:20240223T111140Z
LAST-MODIFIED:20240223T125140Z
UID:10001082-1709730000-1709740800@www.arena-hohenlohe.com
SUMMARY:Kälberauktion
DESCRIPTION:Auf der Auktion erwartet Sie ein umfangreiches Angebot an Fleckvieh-Mastkälbern.Wir freuen uns auf Ihren Besuch. Weitere Infos zum Tierangebot und zum Kaufauftragsdienst erhalten Sie bei unserem Vermarktungsleiter Auktionskälber Markus Werner unter 0172-747 19 28. \nweitere Infos
URL:https://www.arena-hohenlohe.com/en/events/kaelberauktion-58-10/
ATTACH;FMTTYPE=image/jpeg:https://www.arena-hohenlohe.com/wp-content/uploads/2016/07/P1050582-e1469015768968.jpg
END:VEVENT
BEGIN:VEVENT
DTSTART;VALUE=DATE:20240301
DTEND;VALUE=DATE:20240304
DTSTAMP:20260423T235926
CREATED:20240223T110958Z
LAST-MODIFIED:20240223T124323Z
UID:10001059-1709251200-1709510399@www.arena-hohenlohe.com
SUMMARY:HVM - Hohenloher Verbrauchermesse 2024
DESCRIPTION:Herzlich Willkommen! Die HOHENLOHER VERBRAUCHERMESSE HVM ist eine Plattform\, auf der sich Verbraucher umfassend über die Angebote und Leistungen der Gewerbetreibenden in der Wirtschaftsregion Hohenlohe-Franken informieren können.\nWeitere Infos hier!
URL:https://www.arena-hohenlohe.com/en/events/hvm-hohenloher-verbrauchermesse-2024/
ATTACH;FMTTYPE=image/png:https://www.arena-hohenlohe.com/wp-content/uploads/2017/07/HVM_Logo.png
END:VEVENT
BEGIN:VEVENT
DTSTART;TZID=Europe/Berlin:20240221T103000
DTEND;TZID=Europe/Berlin:20240221T160000
DTSTAMP:20260423T235926
CREATED:20240223T111140Z
LAST-MODIFIED:20240223T125619Z
UID:10001081-1708511400-1708531200@www.arena-hohenlohe.com
SUMMARY:Zuchtviehauktion
DESCRIPTION:Auf der Auktion erwartet Sie ein umfangreiches Angebot an besten Zuchttieren der Rassen Fleckvieh und Holsteins und ein großes Fleckvieh-Mastkälberangebot.Wir freuen uns auf Ihren Besuch. Weitere Infos zum Tierangebot erhalten Sie bei unserem Vermarktungsleiter Dr. Goran Vuckovic unter 0172-767 19 42. \nweitere Infos
URL:https://www.arena-hohenlohe.com/en/events/zuchtviehauktion-63-16/
ATTACH;FMTTYPE=image/jpeg:https://www.arena-hohenlohe.com/wp-content/uploads/2021/06/Laudate_DE0813471555_Domel_HaeberleA_kopf.jpg
END:VEVENT
BEGIN:VEVENT
DTSTART;TZID=Europe/Berlin:20240217T110000
DTEND;TZID=Europe/Berlin:20240218T160000
DTSTAMP:20260423T235926
CREATED:20240223T111042Z
LAST-MODIFIED:20240223T123121Z
UID:10001073-1708167600-1708272000@www.arena-hohenlohe.com
SUMMARY:Alpakaschau Süd
DESCRIPTION:13. Nationale Alpaka Schau Süd\nam 17. und 18. Februar 2024\nin der Arena Hohenlohe in Ilshofen\nGeöffnet: Samstag und Sonntag von 11 bis 16 Uhr \nWillkommen in der der Welt der Alpakas \nAuf der „Alpaka Schau Süd“ am 17. und 18. Februar 2024 in der Arena Hohenlohe in Ilshofen trifft der Besucher täglich von 11 bis 16 Uhr mit über 300 Alpakas in unmittelbaren Kontakt und erlebt dabei die ganze Welt der Alpakas\, voller Magie die diese Tiere ausstrahlen. \nZahlreiche Verkaufsstände präsentieren edle Wollprodukte von Alpakas wie Pullis\, Jacken\, modischen Accessoires\, Betten\, Kosmetik aus Alpaka Keratin aber auch Kunstgewerbe\, das alles käuflich zu erwerben ist und zu einem bunten Bummel über den breitgefächerten Markt einladet. Anschließend kann im Arena Restaurant nach Herzenslust gutbürgerlich gegessen und getrunken werden. \nFilme und eine tägliche Erlebnis Führung über die Alpaka Schau Süd zeigen tiefe Einblicke in das Leben der Alpakas. Ein großes Kinder- Familienprogramm mit kostenlosen Kamelreiten an beiden Tagen\, Kettcar fahren\, Kinder Schminken\, Basteln von edlen Schmuckstücken für groß und klein\, einem Gewinnspiel mit wertvollen Preisen und vielen mehr sorgen des weiteren für ein unvergessliches Wochenende unter Alpakas.\nEin Besuch\, der sich garantiert lohnt!\nhttp://www.alpaka-schau.de/
URL:https://www.arena-hohenlohe.com/en/events/alpakaschau-sued-3-2/
END:VEVENT
BEGIN:VEVENT
DTSTART;TZID=Europe/Berlin:20240210T183000
DTEND;TZID=Europe/Berlin:20240210T203000
DTSTAMP:20260423T235926
CREATED:20240223T111240Z
LAST-MODIFIED:20240223T123121Z
UID:10001102-1707589800-1707597000@www.arena-hohenlohe.com
SUMMARY:easyCredit Basketball Bundesliga MERLINS vs. MHP Riesen Ludwigsburg
DESCRIPTION:Am Samstag empfangen die HAKRO Merlins Crailsheim in der Arena Hohenlohe das Team der MHP Riesen Ludwigsburg (Spielbeginn: 18:30 Uhr).\nweitere Infos
URL:https://www.arena-hohenlohe.com/en/events/easycredit-basketball-bundesliga-merlins-vs-mhp-riesen-ludwigsburg-2-2/
END:VEVENT
BEGIN:VEVENT
DTSTART;TZID=Europe/Berlin:20240207T130000
DTEND;TZID=Europe/Berlin:20240207T160000
DTSTAMP:20260423T235926
CREATED:20240223T111140Z
LAST-MODIFIED:20240223T123032Z
UID:10001080-1707310800-1707321600@www.arena-hohenlohe.com
SUMMARY:Kälberauktion
DESCRIPTION:Auf der Auktion erwartet Sie ein umfangreiches Angebot an Fleckvieh-Mastkälbern.Wir freuen uns auf Ihren Besuch. Weitere Infos zum Tierangebot und zum Kaufauftragsdienst erhalten Sie bei unserem Vermarktungsleiter Auktionskälber Markus Werner unter 0172-747 19 28. \nweitere Infos
URL:https://www.arena-hohenlohe.com/en/events/kaelberauktion-58-11/
END:VEVENT
BEGIN:VEVENT
DTSTART;VALUE=DATE:20240203
DTEND;VALUE=DATE:20240204
DTSTAMP:20260423T235926
CREATED:20240223T110959Z
LAST-MODIFIED:20240223T123122Z
UID:10001061-1706918400-1707004799@www.arena-hohenlohe.com
SUMMARY:17. Süddeutsche Fleischrindertage
DESCRIPTION:Der Treffpunkt für alle Fleischrinderzüchter- und halter!\nAm Sa.\, 03. Februar 2024 findet eine klassische Auktion in der Arena Hohenlohe (Justus-von-Liebig-Straße 1\, 74532 Ilshofen) statt; ergänzt um die Möglichkeit\, gleichzeitig auch online (via Internet) mitbieten zu können. Diese sogenannte „Hybridauktion“ eröffnet allen die Möglichkeit\, auf die Art dabei zu sein\, die sie sich wünschen.\nhttp://www.rind-bw.de \n 
URL:https://www.arena-hohenlohe.com/en/events/17-sueddeutsche-fleischrindertage-3/
END:VEVENT
BEGIN:VEVENT
DTSTART;VALUE=DATE:20240202
DTEND;VALUE=DATE:20240204
DTSTAMP:20260423T235926
CREATED:20240223T111042Z
LAST-MODIFIED:20240223T123122Z
UID:10001072-1706832000-1707004799@www.arena-hohenlohe.com
SUMMARY:17. Süddeutsche Fleischrindertage
DESCRIPTION:Der Treffpunkt für alle Fleischrinderzüchter- und halter!\nAm Sa.\, 03. Februar 2024 findet eine klassische Auktion in der Arena Hohenlohe (Justus-von-Liebig-Straße 1\, 74532 Ilshofen) statt; ergänzt um die Möglichkeit\, gleichzeitig auch online (via Internet) mitbieten zu können. Diese sogenannte „Hybridauktion“ eröffnet allen die Möglichkeit\, auf die Art dabei zu sein\, die sie sich wünschen. \n \nhttp://www.rind-bw.de \n 
URL:https://www.arena-hohenlohe.com/en/events/17-sueddeutsche-fleischrindertage/
END:VEVENT
BEGIN:VEVENT
DTSTART;TZID=Europe/Berlin:20240127T130000
DTEND;TZID=Europe/Berlin:20240128T170000
DTSTAMP:20260423T235926
CREATED:20240223T110957Z
LAST-MODIFIED:20240223T123123Z
UID:10001057-1706360400-1706461200@www.arena-hohenlohe.com
SUMMARY:LandMesse
DESCRIPTION:Die LandMesse der Maschinenringe Schwäbisch Hall und Crailsheim findet am 27. Januar und 28. Januar 2024 wie gewohnt in der Arena Hohenlohe statt.\n•Gebrauchtmaschinenausstellung\n•Ausstellung mit 70 Ausstellern\n•interessante Fachvorträge am Sonntag\n•Maschinenvorführungen\n•Ausstellung unserer Mietmaschinen\n•Forstmaschinenausstellung \nweitere Infos
URL:https://www.arena-hohenlohe.com/en/events/landmesse-4/
END:VEVENT
END:VCALENDAR