BEGIN:VCALENDAR
VERSION:2.0
PRODID:-//Arena Hohenlohe - ECPv6.5.1.1//NONSGML v1.0//EN
CALSCALE:GREGORIAN
METHOD:PUBLISH
X-WR-CALNAME:Arena Hohenlohe
X-ORIGINAL-URL:https://www.arena-hohenlohe.com/en/
X-WR-CALDESC:Events for Arena Hohenlohe
REFRESH-INTERVAL;VALUE=DURATION:PT1H
X-Robots-Tag:noindex
X-PUBLISHED-TTL:PT1H
BEGIN:VTIMEZONE
TZID:Europe/Berlin
BEGIN:DAYLIGHT
TZOFFSETFROM:+0100
TZOFFSETTO:+0200
TZNAME:CEST
DTSTART:20260329T010000
END:DAYLIGHT
BEGIN:STANDARD
TZOFFSETFROM:+0200
TZOFFSETTO:+0100
TZNAME:CET
DTSTART:20261025T010000
END:STANDARD
END:VTIMEZONE
BEGIN:VEVENT
DTSTART;TZID=Europe/Berlin:20261212T160000
DTEND;TZID=Europe/Berlin:20261213T030000
DTSTAMP:20260419T175824
CREATED:20251001T125818Z
LAST-MODIFIED:20260206T102007Z
UID:10001236-1797091200-1797130800@www.arena-hohenlohe.com
SUMMARY:Gamechanger Festival - Upgrade your Life
DESCRIPTION:GAMECHANGER FESTIVAL- UPGRADE YOUR LIFE\n\n\n\n\nDas GRÖßTE FEEL GOOD – FEEL BETTER – FEEL BEST – FESTIVAL in THE LÄND. \nDiese Show verändert Dein Leben. Erfahre alles\, was Du wissen musst in diesem einen Event von Deutschlands führenden Expert:innen rund um das richtige MINDSET und die besten Erfolgsrategien\, um – trotz aller Widrigkeiten –  das Leben Deiner Träume zu führen. Sei auch du ein GAMECHANGER. UPGRADE YOUR LIFE. NOW. \n\n\n\nSei auch Du ein GAMECHANGER\n\n\n\n\nBei diesem deutschlandweit einzigartigen SHOW-EVENT mit Festival in und an der Arena Hohenlohe in Ilshofen (Baden-Württemberg) dreht sich alles um die Frage: Wie werde auch ich selbst ein GAMECHANGER in meinem Leben? Den ersten Schritt machst Du\, wenn auch Du dabei bist. Get your dream life started. NOW. \nAlle Infos findest Du hier! \n\n\n\n\n\nTickets findest Du hier! 
URL:https://www.arena-hohenlohe.com/en/events/gamechanger-festival-upgrade-your-life/
LOCATION:Arena Hohenlohe\, Justus-von-Liebig-Str. 1\, Ilshofen\, 74532\, Deutschland
ATTACH;FMTTYPE=image/png:https://www.arena-hohenlohe.com/wp-content/uploads/2025/10/Gamechanger-Festival_2025.png
ORGANIZER;CN="Hohenlohe Medien%2C K%C3%BCnzelsau":MAILTO:info@gamechanger-festival.de
END:VEVENT
END:VCALENDAR