BEGIN:VCALENDAR
VERSION:2.0
PRODID:-//Arena Hohenlohe - ECPv6.5.1.1//NONSGML v1.0//EN
CALSCALE:GREGORIAN
METHOD:PUBLISH
X-WR-CALNAME:Arena Hohenlohe
X-ORIGINAL-URL:https://www.arena-hohenlohe.com/en/
X-WR-CALDESC:Events for Arena Hohenlohe
REFRESH-INTERVAL;VALUE=DURATION:PT1H
X-Robots-Tag:noindex
X-PUBLISHED-TTL:PT1H
BEGIN:VTIMEZONE
TZID:Europe/Berlin
BEGIN:DAYLIGHT
TZOFFSETFROM:+0100
TZOFFSETTO:+0200
TZNAME:CEST
DTSTART:20250330T010000
END:DAYLIGHT
BEGIN:STANDARD
TZOFFSETFROM:+0200
TZOFFSETTO:+0100
TZNAME:CET
DTSTART:20251026T010000
END:STANDARD
END:VTIMEZONE
BEGIN:VEVENT
DTSTART;VALUE=DATE:20250111
DTEND;VALUE=DATE:20250113
DTSTAMP:20260423T135428
CREATED:20240223T111250Z
LAST-MODIFIED:20240320T160022Z
UID:10001109-1736553600-1736726399@www.arena-hohenlohe.com
SUMMARY:14. internationaler BWK-Arenacup
DESCRIPTION:Der Internationale U15 BWK-ArenaCup steht fest im Veranstaltungskalender der Arena Hohenlohe. Damit geht der Fußball Förderverein Ilshofen mit dem hochkarätig besetzten Jugendturnier mittlerweile in die vierzehnte Auflage.\nweitere Infos
URL:https://www.arena-hohenlohe.com/en/events/14-internationaler-bwk-arenacup/
ATTACH;FMTTYPE=image/png:https://www.arena-hohenlohe.com/wp-content/uploads/2022/05/bwk_bild.png
END:VEVENT
END:VCALENDAR