BEGIN:VCALENDAR
VERSION:2.0
PRODID:-//Arena Hohenlohe - ECPv6.5.1.1//NONSGML v1.0//EN
CALSCALE:GREGORIAN
METHOD:PUBLISH
X-ORIGINAL-URL:https://www.arena-hohenlohe.com/en/
X-WR-CALDESC:Events for Arena Hohenlohe
REFRESH-INTERVAL;VALUE=DURATION:PT1H
X-Robots-Tag:noindex
X-PUBLISHED-TTL:PT1H
BEGIN:VTIMEZONE
TZID:Europe/Berlin
BEGIN:DAYLIGHT
TZOFFSETFROM:+0100
TZOFFSETTO:+0200
TZNAME:CEST
DTSTART:20240331T010000
END:DAYLIGHT
BEGIN:STANDARD
TZOFFSETFROM:+0200
TZOFFSETTO:+0100
TZNAME:CET
DTSTART:20241027T010000
END:STANDARD
END:VTIMEZONE
BEGIN:VEVENT
DTSTART;TZID=Europe/Berlin:20240914T183000
DTEND;TZID=Europe/Berlin:20240914T210000
DTSTAMP:20260423T192509
CREATED:20240805T143559Z
LAST-MODIFIED:20240805T143559Z
UID:10001137-1726338600-1726347600@www.arena-hohenlohe.com
SUMMARY:BBL-Pokal 1. Runde MERLINS vs. Rostock Seawolves
DESCRIPTION:Der erste Pflichtspielgegner der HAKRO Merlins Crailsheim steht fest: Am Samstag\, den 14. September treffen die Zauberer im Rahmen des BBL-Pokals in der Arena Hohenlohe auf die Rostock Seawolves. (Spielbeginn: 18:30 Uhr).\nweitere Infos
URL:https://www.arena-hohenlohe.com/en/events/bbl-pokal-1-runde-merlins-vs-rostock-seawolves/
LOCATION:Arena Hohenlohe\, Justus-von-Liebig-Str. 1\, Ilshofen\, 74532\, Deutschland
ATTACH;FMTTYPE=image/jpeg:https://www.arena-hohenlohe.com/wp-content/uploads/2021/09/Merlins_7.jpg
END:VEVENT
END:VCALENDAR