BEGIN:VCALENDAR
VERSION:2.0
PRODID:-//Arena Hohenlohe - ECPv6.5.1.1//NONSGML v1.0//EN
CALSCALE:GREGORIAN
METHOD:PUBLISH
X-WR-CALNAME:Arena Hohenlohe
X-ORIGINAL-URL:https://www.arena-hohenlohe.com
X-WR-CALDESC:Veranstaltungen für Arena Hohenlohe
REFRESH-INTERVAL;VALUE=DURATION:PT1H
X-Robots-Tag:noindex
X-PUBLISHED-TTL:PT1H
BEGIN:VTIMEZONE
TZID:Europe/Berlin
BEGIN:DAYLIGHT
TZOFFSETFROM:+0100
TZOFFSETTO:+0200
TZNAME:CEST
DTSTART:20260329T010000
END:DAYLIGHT
BEGIN:STANDARD
TZOFFSETFROM:+0200
TZOFFSETTO:+0100
TZNAME:CET
DTSTART:20261025T010000
END:STANDARD
BEGIN:DAYLIGHT
TZOFFSETFROM:+0100
TZOFFSETTO:+0200
TZNAME:CEST
DTSTART:20270328T010000
END:DAYLIGHT
BEGIN:STANDARD
TZOFFSETFROM:+0200
TZOFFSETTO:+0100
TZNAME:CET
DTSTART:20271031T010000
END:STANDARD
END:VTIMEZONE
BEGIN:VEVENT
DTSTART;VALUE=DATE:20260427
DTEND;VALUE=DATE:20260429
DTSTAMP:20260425T180417
CREATED:20260309T131150Z
LAST-MODIFIED:20260309T131150Z
UID:10001238-1777248000-1777420799@www.arena-hohenlohe.com
SUMMARY:Zukunftswiesen Summit 2026
DESCRIPTION:Das innovative Mega‒Event in der Region der Weltmarktführer.\n\n\n\n\n\n\nUnternehmen kämpfen mit Unsicherheit. Start-ups und Innovatoren mit fehlender Sichtbarkeit. Talente mit Orientierungslosigkeit. Eine gesamte Region wartet darauf\, dass jemand den nächsten Schritt macht. Das Zukunftswiesen Summit bringt alle zusammen.\n\nEs wird Zeit für Aufbruch. Zeit\, Mut zu zeigen. Zeit\, Lösungen zu bauen. Im Herzen der Weltmarktführer-Region entsteht der größte Zukunftsgipfel seiner Art – ein Ort\, an dem Menschen zusammenkommen\, die die Zukunft nicht erwarten\, sondern gestalten.\n\n\n\nDer Zukunftswiesen Summit ist das größte Zukunfts- und Innovations-Event der Weltmarktführer-Region. Über 1.500 Teilnehmer aus Unternehmen\, Start-ups\, Politik und Wissenschaft kommen zusammen\, um über Zukunftsthemen\, Innovation und Transformation zu sprechen.\n\n\nAlle Infos finden Sie hier.
URL:https://www.arena-hohenlohe.com/events/zukunftswiesen-summit-2026/
LOCATION:Arena Hohenlohe\, Justus-von-Liebig-Str. 1\, Ilshofen\, 74532\, Deutschland
CATEGORIES:Event
ATTACH;FMTTYPE=image/jpeg:https://www.arena-hohenlohe.com/wp-content/uploads/2026/03/Summit_2026.jpg
ORGANIZER;CN="ZG Germany U":MAILTO:organisation@zukunfts-macher.de
END:VEVENT
BEGIN:VEVENT
DTSTART;TZID=Europe/Berlin:20260502T193000
DTEND;TZID=Europe/Berlin:20260502T213000
DTSTAMP:20260425T180417
CREATED:20250704T071535Z
LAST-MODIFIED:20250704T071535Z
UID:10001191-1777750200-1777757400@www.arena-hohenlohe.com
SUMMARY:BARMER 2. Basketball-Bundesliga MERLINS vs. BG Göttingen
DESCRIPTION:Am Samstag empfangen die HAKRO Merlins Crailsheim in der Arena Hohenlohe das Team von BG Göttingen (Spielbeginn: 19:30 Uhr).\nweitere Infos
URL:https://www.arena-hohenlohe.com/events/barmer-2-basketball-bundesliga-merlins-vs-bg-goettingen/
LOCATION:Arena Hohenlohe\, Justus-von-Liebig-Str. 1\, Ilshofen\, 74532\, Deutschland
CATEGORIES:Event
ATTACH;FMTTYPE=image/jpeg:https://www.arena-hohenlohe.com/wp-content/uploads/2024/07/a_PHILIPPREINHARD.COM_MERLINS_24_25_Rostock_L1003234-1.jpg
END:VEVENT
BEGIN:VEVENT
DTSTART;TZID=Europe/Berlin:20261016T200000
DTEND;TZID=Europe/Berlin:20261016T220000
DTSTAMP:20260425T180417
CREATED:20260408T071415Z
LAST-MODIFIED:20260408T071416Z
UID:10001239-1792180800-1792188000@www.arena-hohenlohe.com
SUMMARY:Bülent Ceylan - Diktatürk!
DESCRIPTION:Bülent hat die Nase voll. Überall Diktatoren! Egal ob Politik\, Mode\, Beziehung oder Ernährung – ständig will Dir einer sagen\, was Du zu tun hast. Aber nicht mit Bülent. Ab heute wird zurückdiktiert! Der Thor wird zum Dikta-Thor.\nMompfreds Frau Waltraut braucht auch dringend mal wieder ne Ansage.\nAnneliese ist natürlich schon lange die perfekte Ver-Führerin.\nSogar Harald mischt sich diesmal hoch zu Roß unters Volk.\nUnd Hasan revolutioniert den Unterricht an deutschen Schulen und lässt Goethe ganz alt aussehen.\nJa\, und bei Bülent zuhause herrscht das Familienregiment. Da muss sogar Bülent mal strammstehen. \nMetal und Marschmusik gibt’s im neuen Programm natürlich auch. \nAlso\, holt Euch die Karten – hey\, nur ein Vorschlag\, kein Befehl! \nEinlass: 19 Uhr \nBeginn: 20 Uhr \nZu den Tickets geht es hier.
URL:https://www.arena-hohenlohe.com/events/buelent-ceylan-diktatuerk/
LOCATION:Arena Hohenlohe\, Justus-von-Liebig-Str. 1\, Ilshofen\, 74532\, Deutschland
CATEGORIES:Event
ATTACH;FMTTYPE=image/jpeg:https://www.arena-hohenlohe.com/wp-content/uploads/2026/04/Buelent_2026-e1775632026925.jpg
ORGANIZER;CN="s-promotion":MAILTO:info@s-promotion.de
END:VEVENT
BEGIN:VEVENT
DTSTART;TZID=Europe/Berlin:20261212T160000
DTEND;TZID=Europe/Berlin:20261213T030000
DTSTAMP:20260425T180417
CREATED:20251001T125818Z
LAST-MODIFIED:20260206T102007Z
UID:10001236-1797091200-1797130800@www.arena-hohenlohe.com
SUMMARY:Gamechanger Festival - Upgrade your Life
DESCRIPTION:GAMECHANGER FESTIVAL- UPGRADE YOUR LIFE\n\n\n\n\nDas GRÖßTE FEEL GOOD – FEEL BETTER – FEEL BEST – FESTIVAL in THE LÄND. \nDiese Show verändert Dein Leben. Erfahre alles\, was Du wissen musst in diesem einen Event von Deutschlands führenden Expert:innen rund um das richtige MINDSET und die besten Erfolgsrategien\, um – trotz aller Widrigkeiten –  das Leben Deiner Träume zu führen. Sei auch du ein GAMECHANGER. UPGRADE YOUR LIFE. NOW. \n\n\n\nSei auch Du ein GAMECHANGER\n\n\n\n\nBei diesem deutschlandweit einzigartigen SHOW-EVENT mit Festival in und an der Arena Hohenlohe in Ilshofen (Baden-Württemberg) dreht sich alles um die Frage: Wie werde auch ich selbst ein GAMECHANGER in meinem Leben? Den ersten Schritt machst Du\, wenn auch Du dabei bist. Get your dream life started. NOW. \nAlle Infos findest Du hier! \n\n\n\n\n\nTickets findest Du hier! 
URL:https://www.arena-hohenlohe.com/events/gamechanger-festival-upgrade-your-life/
LOCATION:Arena Hohenlohe\, Justus-von-Liebig-Str. 1\, Ilshofen\, 74532\, Deutschland
CATEGORIES:Event
ATTACH;FMTTYPE=image/png:https://www.arena-hohenlohe.com/wp-content/uploads/2025/10/Gamechanger-Festival_2025.png
ORGANIZER;CN="Hohenlohe Medien%2C K%C3%BCnzelsau":MAILTO:info@gamechanger-festival.de
END:VEVENT
BEGIN:VEVENT
DTSTART;TZID=Europe/Berlin:20270314T091500
DTEND;TZID=Europe/Berlin:20270314T150000
DTSTAMP:20260425T180417
CREATED:20250910T091318Z
LAST-MODIFIED:20250910T091318Z
UID:10001233-1805015700-1805036400@www.arena-hohenlohe.com
SUMMARY:RBW-Schau 2027
DESCRIPTION:Am 14 März 2027 findet wieder eine gemeinsame Landesschau mit den Rassen Fleckvieh\, Holsteins und Brown Swiss in der Arena Hohenlohe in Ilshofen statt.\nDie Schau beginnt am Sonntag mit einem Wortgottesdienst um 9.15 Uhr. Gegen 10.00 Uhr startet das Richten der jüngeren Kuhklassen der einzelnen Rassen. Begleitend hierzu besteht in der Gastronomie der Vermarktungseinrichtung die Möglichkeit sich um das leibliche Wohl zu kümmern. Eine Reihe von Ausstellern des vor- und nachgelagerten Bereiches ermöglichen es sich zu informieren und geben der Schau den nötigen Messecharakter. \nNach der Wahl der Grand Champions 2027 und der Siegerehrung ist das Schauende auf 15.30 Uhr geplant. \n  \nweitere Infos
URL:https://www.arena-hohenlohe.com/events/rbw-schau-2027/
LOCATION:Arena Hohenlohe\, Justus-von-Liebig-Str. 1\, Ilshofen\, 74532\, Deutschland
CATEGORIES:RBW-Termine
ATTACH;FMTTYPE=image/jpeg:https://www.arena-hohenlohe.com/wp-content/uploads/2024/02/20230312_111559-scaled-e1710950213760.jpg
END:VEVENT
END:VCALENDAR